DBD-Mock v1.59 Perl 5 v5.26.2 x86_64-linux-thread-multi
- Status
- Pass
- From
- Nigel Horne
- Dist
-
DBD-Mock v1.59
- Platform
- Perl 5 v5.26.2 x86_64-linux-thread-multi
- Date
- 2021-02-23T13:22:59
- ID
- 3fcc6056-75da-11eb-bdde-ed786adfbf16
This distribution has been tested as part of the CPAN Testers
project, supporting the Perl programming language. See
http://wiki.cpantesters.org/ for more information or email
questions to cpan-testers-discuss@perl.org
--
Dear Jason Cooper,
This is a computer-generated report for DBD-Mock-1.59
on perl 5.26.2, created by CPAN-Reporter-1.2018.
Thank you for uploading your work to CPAN. Congratulations!
All tests were successful.
Sections of this report:
* Tester comments
* Program output
* Prerequisites
* Environment and other context
------------------------------
TESTER COMMENTS
------------------------------
Additional comments from tester:
none provided
------------------------------
PROGRAM OUTPUT
------------------------------
Output from './Build test':
t/000_basic.t .......................... ok
t/001_db_handle.t ...................... ok
t/002_dr_handle.t ...................... ok
t/003_db_can_connect.t ................. ok
t/004_misc_mock_attr.t ................. ok
t/005_db_parser.t ...................... ok
t/006_prepare_cached.t ................. ok
t/007_mock_attribute_aliases.t ......... ok
t/008_db_connect_cached.t .............. ok
t/009_info.t ........................... ok
t/010_rollback.t ....................... ok
t/011_st_execute_empty.t ............... ok
t/012_st_handle.t ...................... ok
t/013_st_execute_bound_params.t ........ ok
t/014_st_execute_pass_params.t ......... ok
t/015_st_fetch_records.t ............... ok
t/016_mock_add_resultset_test.t ........ ok
t/017_st_can_connect.t ................. ok
t/018_mock_statement_track.t ........... ok
t/019_mock_statement_track_iterator.t .. ok
t/020_db_pool.t ........................ ok
t/021_DBD_Mock_Session.t ............... ok
t/022_DBD_Mock_Session_bound_params.t .. ok
t/024_selcol_fetchhash.t ............... ok
t/023_statement_failure.t .............. ok
t/025_mock_last_insert_id.t ............ ok
t/026_st_bind_col.t .................... ok
t/027_named_parameters.t ............... ok
t/030_st_execute_array.t ............... ok
t/028_bind_columns.t ................... ok
t/029_multiple_prepare_statements.t .... ok
t/031_setup_callbacks.t ................ ok
t/032_selectall_arrayref.t ............. ok
t/033_table_info.t ..................... ok
t/034_custom_attributes.t .............. ok
t/bug_015602.t ......................... ok
t/bug_066815.t ......................... ok
t/998_pod.t ............................ ok
t/bug_071438.t ......................... ok
t/bug_082243.t ......................... ok
t/bug_117162.t ......................... ok
t/999_pod_coverage.t ................... ok
All tests successful.
Files=42, Tests=839, 1 wallclock secs ( 0.15 usr 0.06 sys + 1.78 cusr 0.18 csys = 2.17 CPU)
Result: PASS
------------------------------
PREREQUISITES
------------------------------
Prerequisite modules loaded:
requires:
Module Need Have
--------------- -------- ---------
DBI 1.3 1.641
List::Util 1.27 1.49_10
perl 5.008001 5.026002
build_requires:
Module Need Have
--------------- -------- ---------
Test::Exception 0.31 0.43
Test::More 0.47 1.401015c
------------------------------
ENVIRONMENT AND OTHER CONTEXT
------------------------------
Environment variables:
HARNESS_OPTIONS = j4:c
LANG = en_GB.UTF-8
LANGUAGE = en_GB:en
LD_LIBRARY_PATH = /usr/local/lib::
NONINTERACTIVE_TESTING = 1
PATH = /home/njh/perl5/perlbrew/bin:/home/njh/perl5/perlbrew/perls/cperl-5.26.2/bin:/home/njh/perl5/perlbrew/bin:/usr/local/bin:/usr/bin:/bin:/usr/games:/home/njh/bin:/sbin:/home/njh/go/bin
PERL5LIB =
PERL5OPT =
PERL5_CPANPLUS_IS_RUNNING = 89466
PERL5_CPAN_IS_RUNNING = 89466
PERLBREW_HOME = /home/njh/.perlbrew
PERLBREW_LIB =
PERLBREW_MANPATH = /home/njh/perl5/perlbrew/perls/cperl-5.26.2/man
PERLBREW_PATH = /home/njh/perl5/perlbrew/bin:/home/njh/perl5/perlbrew/perls/cperl-5.26.2/bin
PERLBREW_PERL = cperl-5.26.2
PERLBREW_ROOT = /home/njh/perl5/perlbrew
PERLBREW_SHELLRC_VERSION = 0.86
PERLBREW_VERSION = 0.86
PERL_LOCAL_LIB_ROOT =
PERL_MM_USE_DEFAULT = 1
PERL_USE_UNSAFE_INC = 1
SHELL = /bin/bash
TEMP = /tmp/user/1000
TMPDIR = /tmp/user/1000
Perl special variables (and OS-specific diagnostics, for MSWin32):
$^X = /home/njh/perl5/perlbrew/perls/cperl-5.26.2/bin/cperl5.26.2
$UID/$EUID = 1000 / 1000
$GID = 1000 4 24 25 29 30 44 46 108 1000
$EGID = 1000 4 24 25 29 30 44 46 108 1000
Perl module toolchain versions installed:
Module Have
------------------- ---------
CPAN 2.18_01
CPAN::Meta 2.150010c
Cwd 4.68c
ExtUtils::CBuilder 0.280236
ExtUtils::Command 7.30
ExtUtils::Install 2.14
ExtUtils::MakeMaker 8.30_04
ExtUtils::Manifest 1.70
ExtUtils::ParseXS 3.36_03
File::Spec 4.68c
JSON n/a
JSON::PP 4.06
Module::Build 0.4224
Module::Signature n/a
Parse::CPAN::Meta 1.5000c
Test::Harness 3.39_01
Test::More 1.401015c
YAML 1.29
YAML::Syck 1.31
version 0.9928
--
Summary of my cperl (revision 5 version 26 subversion 2) configuration:
Platform:
osname=linux, osvers=4.14.0-3-amd64, archname=x86_64-linux-thread-multi
uname='linux gateway 4.14.0-3-amd64 #1 smp debian 4.14.17-1 (2018-02-14) x86_64 gnulinux '
config_args='-de -Dprefix=/home/njh/perl5/perlbrew/perls/cperl-5.26.2 -Dusedevel -Dusethreads -Dusemultiplicity -Dusecperl -Accflags= -Aeval:scriptdir=/home/njh/perl5/perlbrew/perls/cperl-5.26.2/bin'
hint=recommended, useposix=true, d_sigaction=define
useithreads=define, usemultiplicity=define
use64bitint=define, use64bitall=define, uselongdouble=undef
usemymalloc=n, bincompat5005=undef default_inc_excludes_dot=define
Compiler:
cc='cc', ccflags ='-D_REENTRANT -D_GNU_SOURCE -fwrapv -fno-strict-aliasing -pipe -fstack-protector-strong -D_LARGEFILE_SOURCE -D_FILE_OFFSET_BITS=64 -D_FORTIFY_SOURCE=2',
optimize='-O2 --pipe',
cppflags='-D_REENTRANT -D_GNU_SOURCE -fwrapv -fno-strict-aliasing -pipe -fstack-protector-strong'
ccversion='', gccversion='7.3.0', gccosandvers=''
intsize=4, longsize=8, ptrsize=8, doublesize=8, byteorder=12345678, doublekind=3
d_longlong=define, longlongsize=8, d_longdbl=define, longdblsize=16, longdblkind=3
ivtype='long', ivsize=8, nvtype='double', nvsize=8, Off_t='off_t', lseeksize=8
alignbytes=8, prototype=define
Linker and Libraries:
ld='cc', ldflags =' -fstack-protector-strong -L/usr/local/lib'
libpth=/usr/lib/gcc/x86_64-linux-gnu/7 /usr/lib/x86_64-linux-gnu /usr/lib /lib/x86_64-linux-gnu /lib /usr/local/lib /lib64
libs=-lpthread -lnsl -ldl -lm -lcrypt -lutil -lc
perllibs=-lpthread -lnsl -ldl -lm -lcrypt -lutil -lc
libc=libc-2.27.so, so=so, useshrplib=false, libperl=libperl.a
gnulibc_version='2.27'
Dynamic Linking:
dlsrc=dl_dlopen.xs, dlext=so, d_dlsymun=undef, ccdlflags='-Wl,-E'
cccdlflags='-fPIC', lddlflags='-shared -O2 --pipe -L/usr/local/lib -fstack-protector-strong'
Characteristics of this binary (from libperl):
Compile-time options: HAS_TIMES MULTIPLICITY PERLIO_LAYERS
PERL_COPY_ON_WRITE PERL_DONT_CREATE_GVSV
PERL_HASH_FUNC_FNV1A PERL_IMPLICIT_CONTEXT
PERL_MALLOC_WRAP PERL_OP_PARENT PERL_PERTURB_KEYS_TOP
PERL_PRESERVE_IVUV PERL_USE_DEVEL USE_64_BIT_ALL
USE_64_BIT_INT USE_CPERL USE_ITHREADS USE_LARGE_FILES
USE_LOCALE USE_LOCALE_COLLATE USE_LOCALE_CTYPE
USE_LOCALE_NUMERIC USE_LOCALE_TIME USE_PERLIO
USE_PERL_ATOF USE_REENTRANT_API
Built under linux
Compiled at Sat Apr 14 23:31:47 UTC 2018
%ENV:
PERL5LIB=""
PERL5OPT=""
PERL5_CPANPLUS_IS_RUNNING="89466"
PERL5_CPAN_IS_RUNNING="89466"
PERLBREW_HOME="/home/njh/.perlbrew"
PERLBREW_LIB=""
PERLBREW_MANPATH="/home/njh/perl5/perlbrew/perls/cperl-5.26.2/man"
PERLBREW_PATH="/home/njh/perl5/perlbrew/bin:/home/njh/perl5/perlbrew/perls/cperl-5.26.2/bin"
PERLBREW_PERL="cperl-5.26.2"
PERLBREW_ROOT="/home/njh/perl5/perlbrew"
PERLBREW_SHELLRC_VERSION="0.86"
PERLBREW_VERSION="0.86"
PERL_LOCAL_LIB_ROOT=""
PERL_MM_USE_DEFAULT="1"
PERL_USE_UNSAFE_INC="1"
@INC:
/home/njh/perl5/perlbrew/perls/cperl-5.26.2/lib/site_cperl/5.26.2/x86_64-linux-thread-multi
/home/njh/perl5/perlbrew/perls/cperl-5.26.2/lib/site_cperl/5.26.2
/home/njh/perl5/perlbrew/perls/cperl-5.26.2/lib/5.26.2/x86_64-linux-thread-multi
/home/njh/perl5/perlbrew/perls/cperl-5.26.2/lib/5.26.2
.