Regexp-Grammars v1.058 Perl 5 v5.24.3 x86_64-linux-thread-multi
- Status
- Pass
- From
- Andreas J. König (ANDK)
- Dist
-
Regexp-Grammars v1.058
- Platform
- Perl 5 v5.24.3 x86_64-linux-thread-multi
- Date
- 2022-09-20T09:47:34
- ID
- 4115a7e8-38c9-11ed-8cb6-3d7378c76ba7
This distribution has been tested as part of the CPAN Testers
project, supporting the Perl programming language. See
http://wiki.cpantesters.org/ for more information or email
questions to cpan-testers-discuss@perl.org
--
Dear Damian Conway,
This is a computer-generated report for Regexp-Grammars-1.058
on perl 5.24.3, created by CPAN-Reporter-1.2018.
Thank you for uploading your work to CPAN. Congratulations!
All tests were successful.
Sections of this report:
* Tester comments
* Program output
* Prerequisites
* Environment and other context
------------------------------
TESTER COMMENTS
------------------------------
Additional comments from tester:
this report is from an automated smoke testing program
and was not reviewed by a human for accuracy
------------------------------
PROGRAM OUTPUT
------------------------------
Output from './Build test':
# Testing Regexp::Grammars 1.058
t/00.load.t ............................ ok
t/alias_literal.t ...................... ok
t/aliased_subpatterns.t ................ ok
t/arg.t ................................ ok
t/autoflatten.t ........................ ok
t/backref.t ............................ ok
t/backref_ARG.t ........................ ok
t/charnames.t .......................... ok
t/charset.t ............................ ok
t/class_accessor.t ..................... ok
t/clear_actions.t ...................... ok
t/comment.t ............................ ok
t/data_structure.t ..................... ok
t/error.t .............................. ok
t/error_non_backtracking.t ............. ok
t/error_non_hash_based.t ............... ok
t/error_translate.t .................... ok
t/fatal.t .............................. ok
t/fwdref.t ............................. ok
t/grammar.t ............................ ok
t/grammar_autospace.t .................. ok
t/grammar_polymorphism.t ............... ok
t/hash.t ............................... ok
t/hash_redef.t ......................... ok
t/hash_redef_local.t ................... ok
t/inline_computation.t ................. ok
t/inline_computation_handler.t ......... ok
t/inline_computation_obj_handler.t ..... ok
t/local_ws.t ........................... ok
t/lookaheads.t ......................... ok
t/matchline.t .......................... ok
t/matchpos.t ........................... ok
t/minimize_bug.t ....................... ok
t/missing_slash_x.t .................... ok
t/moose.t .............................. ok
t/neg_lookahead.t ...................... ok
t/new.t ................................ ok
t/new_init.t ........................... ok
t/new_init_autoload.t .................. ok
t/new_init_limited_autoload.t .......... ok
t/new_init_limited_autoload_warn.t ..... ok
t/no_context.t ......................... ok
t/no_context_counterlocal.t ............ ok
t/no_context_local.t ................... ok
t/no_context_named_capture.t ........... ok
t/non_backtracking.t ................... ok
t/obj_rename.t ......................... ok
t/one_liner.t .......................... ok
t/pod.t ................................ ok
t/pseudovars.t ......................... ok
t/repop_ws.t ........................... ok
t/seplist.t ............................ ok
t/seplist_countedhash_0.t .............. ok
t/seplist_countedhash_0_.t ............. ok
t/seplist_countedhash_0_1.t ............ ok
t/seplist_countedhash_0_N.t ............ ok
t/seplist_countedhash_1.t .............. ok
t/seplist_countedhash_1_.t ............. ok
t/seplist_countedhash_1_N.t ............ ok
t/seplist_countedhash_M_.t ............. ok
t/seplist_countedhash_M_N.t ............ ok
t/seplist_countedhash_N.t .............. ok
warn | Non-backtracking subrule call <[item=Value]>++
| at t/seplist_greediness.t line 45
| may not revert correctly during backtracking.
| (If grammar does not work, try <[item=Value]>+ instead)
|
t/seplist_greediness.t ................. ok
t/seplist_plushash.t ................... ok
t/seplist_questionmark.t ............... ok
t/seplist_rawhash.t .................... ok
t/seplist_starhash.t ................... ok
t/seplist_trailing__countedhash_0.t .... ok
t/seplist_trailing__countedhash_0_.t ... ok
t/seplist_trailing__countedhash_0_1.t .. ok
t/seplist_trailing__countedhash_0_N.t .. ok
t/seplist_trailing__countedhash_1.t .... ok
t/seplist_trailing__countedhash_1_.t ... ok
t/seplist_trailing__countedhash_1_N.t .. ok
t/seplist_trailing__countedhash_M_.t ... ok
t/seplist_trailing__countedhash_M_N.t .. ok
t/seplist_trailing__countedhash_N.t .... ok
warn | Non-backtracking subrule call <[item=Value]>++
| at t/seplist_trailing__greediness.t line 45
| may not revert correctly during backtracking.
| (If grammar does not work, try <[item=Value]>+ instead)
|
t/seplist_trailing__greediness.t ....... ok
t/seplist_trailing__plushash.t ......... ok
t/seplist_trailing__questionmark.t ..... ok
t/seplist_trailing__rawhash.t .......... ok
t/seplist_trailing__starhash.t ......... ok
t/top_is_token.t ....................... ok
t/ws_redefine.t ........................ ok
All tests successful.
Files=84, Tests=1411, 15 wallclock secs ( 0.31 usr 0.11 sys + 7.96 cusr 1.61 csys = 9.99 CPU)
Result: PASS
------------------------------
PREREQUISITES
------------------------------
Prerequisite modules loaded:
requires:
Module Need Have
------------------- ------- --------
perl v5.10.0 5.024003
Test::More 0 1.302191
version 0 0.9929
configure_requires:
Module Need Have
------------------- ------- --------
ExtUtils::MakeMaker 0 7.64
------------------------------
ENVIRONMENT AND OTHER CONTEXT
------------------------------
Environment variables:
AUTOMATED_TESTING = 1
LANG = en_US.UTF-8
LANGUAGE = en_US:en
PATH = /home/sand/bin:/usr/local/bin:/usr/bin:/bin:/usr/games:/usr/local/perl/bin:/usr/X11/bin:/sbin:/usr/sbin
PERL5LIB =
PERL5OPT =
PERL5_CPANPLUS_IS_RUNNING = 3189508
PERL5_CPAN_IS_RUNNING = 3189508
PERL_CANARY_STABILITY_NOPROMPT = 1
PERL_MM_USE_DEFAULT = 1
PERL_USE_UNSAFE_INC = 1
SHELL = /usr/bin/zsh
TERM = screen
Perl special variables (and OS-specific diagnostics, for MSWin32):
$^X = /home/sand/src/perl/repoperls/installed-perls/host/k93msid/v5.24.3/29fb/bin/perl
$UID/$EUID = 1005 / 1005
$GID = 1005 1005
$EGID = 1005 1005
Perl module toolchain versions installed:
Module Have
------------------- --------
CPAN 2.34
CPAN::Meta 2.150010
Cwd 3.75
ExtUtils::CBuilder 0.280236
ExtUtils::Command 7.64
ExtUtils::Install 2.06
ExtUtils::MakeMaker 7.64
ExtUtils::Manifest 1.70
ExtUtils::ParseXS 3.44
File::Spec 3.75
JSON 4.06
JSON::PP 4.10
Module::Build 0.4231
Module::Signature 0.88
Parse::CPAN::Meta 2.150010
Test::Harness 3.44
Test::More 1.302191
YAML 1.30
YAML::Syck 1.34
version 0.9929
--
Summary of my perl5 (revision 5 version 24 subversion 3) configuration:
Derived from: 9f1d3884c227a955e9ecaaadba4cba3280c47e3a
Platform:
osname=linux, osvers=5.16.0-5-amd64, archname=x86_64-linux-thread-multi
uname='linux k93msid 5.16.0-5-amd64 #1 smp preempt debian 5.16.14-1 (2022-03-15) x86_64 gnulinux '
config_args='-Dprefix=/home/sand/src/perl/repoperls/installed-perls/host/k93msid/v5.24.3/29fb -Dmyhostname=k93msid -Dinstallusrbinperl=n -Uversiononly -Dusedevel -des -Ui_db -Dlibswanted=cl pthread socket inet nsl gdbm dbm malloc dl ld sun m crypt sec util c cposix posix ucb BSD gdbm_compat -Duseithreads -Uuselongdouble -DEBUGGING=both'
hint=recommended, useposix=true, d_sigaction=define
useithreads=define, usemultiplicity=define
use64bitint=define, use64bitall=define, uselongdouble=undef
usemymalloc=n, bincompat5005=undef
Compiler:
cc='cc', ccflags ='-D_REENTRANT -D_GNU_SOURCE -fwrapv -DDEBUGGING -fno-strict-aliasing -pipe -fstack-protector-strong -I/usr/local/include -D_LARGEFILE_SOURCE -D_FILE_OFFSET_BITS=64 -D_FORTIFY_SOURCE=2',
optimize='-O2 -g',
cppflags='-D_REENTRANT -D_GNU_SOURCE -fwrapv -DDEBUGGING -fno-strict-aliasing -pipe -fstack-protector-strong -I/usr/local/include'
ccversion='', gccversion='11.2.0', gccosandvers=''
intsize=4, longsize=8, ptrsize=8, doublesize=8, byteorder=12345678, doublekind=3
d_longlong=define, longlongsize=8, d_longdbl=define, longdblsize=16, longdblkind=3
ivtype='long', ivsize=8, nvtype='double', nvsize=8, Off_t='off_t', lseeksize=8
alignbytes=8, prototype=define
Linker and Libraries:
ld='cc', ldflags =' -fstack-protector-strong -L/usr/local/lib'
libpth=/usr/local/lib /usr/include/x86_64-linux-gnu /usr/lib /lib/x86_64-linux-gnu /lib/../lib /usr/lib/x86_64-linux-gnu /usr/lib/../lib /lib
libs=-lpthread -lnsl -ldl -lm -lcrypt -lutil -lc
perllibs=-lpthread -lnsl -ldl -lm -lcrypt -lutil -lc
libc=libc-2.33.so, so=so, useshrplib=false, libperl=libperl.a
gnulibc_version='2.33'
Dynamic Linking:
dlsrc=dl_dlopen.xs, dlext=so, d_dlsymun=undef, ccdlflags='-Wl,-E'
cccdlflags='-fPIC', lddlflags='-shared -O2 -g -L/usr/local/lib -fstack-protector-strong'
Characteristics of this binary (from libperl):
Compile-time options: DEBUGGING HAS_TIMES MULTIPLICITY PERLIO_LAYERS
PERL_COPY_ON_WRITE PERL_DONT_CREATE_GVSV
PERL_HASH_FUNC_ONE_AT_A_TIME_HARD
PERL_IMPLICIT_CONTEXT PERL_MALLOC_WRAP
PERL_PRESERVE_IVUV PERL_TRACK_MEMPOOL PERL_USE_DEVEL
USE_64_BIT_ALL USE_64_BIT_INT USE_ITHREADS
USE_LARGE_FILES USE_LOCALE USE_LOCALE_COLLATE
USE_LOCALE_CTYPE USE_LOCALE_NUMERIC USE_LOCALE_TIME
USE_PERLIO USE_PERL_ATOF USE_REENTRANT_API
Locally applied patches:
uncommitted-changes
Built under linux
Compiled at Mar 26 2022 13:23:47
%ENV:
PERL5LIB=""
PERL5OPT=""
PERL5_CPANPLUS_IS_RUNNING="3189508"
PERL5_CPAN_IS_RUNNING="3189508"
PERL_CANARY_STABILITY_NOPROMPT="1"
PERL_MM_USE_DEFAULT="1"
PERL_USE_UNSAFE_INC="1"
@INC:
/home/sand/src/perl/repoperls/installed-perls/host/k93msid/v5.24.3/29fb/lib/site_perl/5.24.3/x86_64-linux-thread-multi
/home/sand/src/perl/repoperls/installed-perls/host/k93msid/v5.24.3/29fb/lib/site_perl/5.24.3
/home/sand/src/perl/repoperls/installed-perls/host/k93msid/v5.24.3/29fb/lib/5.24.3/x86_64-linux-thread-multi
/home/sand/src/perl/repoperls/installed-perls/host/k93msid/v5.24.3/29fb/lib/5.24.3
.