Test-AllModules v0.18 Perl 5 v5.14.2 darwin-2level
- Status
- Pass
- From
- Neil Bowers
- Dist
-
Test-AllModules v0.18
- Platform
- Perl 5 v5.14.2 darwin-2level
- Date
- 2021-08-11T15:10:39
- ID
- 4a1d3146-fab6-11eb-8a25-ab6212273b7c
This distribution has been tested as part of the CPAN Testers
project, supporting the Perl programming language. See
http://wiki.cpantesters.org/ for more information or email
questions to cpan-testers-discuss@perl.org
--
Dear Dai Okabayashi,
This is a computer-generated report for Test-AllModules-0.18
on perl 5.14.2, created by CPAN-Reporter-1.2018.
Thank you for uploading your work to CPAN. Congratulations!
All tests were successful.
Sections of this report:
* Tester comments
* Program output
* Prerequisites
* Environment and other context
------------------------------
TESTER COMMENTS
------------------------------
Additional comments from tester:
none provided
------------------------------
PROGRAM OUTPUT
------------------------------
Output from './Build test':
t/00_compile.t ......... ok
t/01_check.t ........... ok
t/02_checks.t .......... ok
t/03_except.t .......... ok
t/04_lib.t ............. ok
t/05_only_one_check.t .. ok
t/06_classes.t ......... ok
t/07_fork.t ............ ok
t/08_fork_pid.t ........ ok
t/09_count.t ........... ok
t/10_use_ok.t .......... ok
t/11_require_ok.t ...... ok
t/12_full_checks.t ..... ok
t/13_version.t ......... ok
t/14_no_version.t ...... ok
t/15_fail.t ............ ok
t/16_hook.t ............ ok
All tests successful.
Files=17, Tests=30, 2 wallclock secs ( 0.05 usr 0.04 sys + 0.91 cusr 0.26 csys = 1.26 CPU)
Result: PASS
------------------------------
PREREQUISITES
------------------------------
Prerequisite modules loaded:
requires:
Module Need Have
------------------------- ------ --------
Module::Pluggable::Object 0 5.1
perl v5.8.1 5.014002
Test::More 0.88 1.302186
Test::SharedFork 0 0.24
build_requires:
Module Need Have
------------------------- ------ --------
File::Spec 0 3.75
FindBin 0 1.50
configure_requires:
Module Need Have
------------------------- ------ --------
Module::Build 0.38 0.4231
------------------------------
ENVIRONMENT AND OTHER CONTEXT
------------------------------
Environment variables:
PATH = /usr/local/apache/bin:/usr/local/bin:/opt/local/bin:/usr/local/bin:/usr/bin:/bin:/usr/sbin:/sbin:/Applications/VMware Fusion.app/Contents/Public:/usr/local/go/bin:/opt/X11/bin:/usr/local/git/bin
PERL5LIB =
PERL5OPT =
PERL5_CPANPLUS_IS_RUNNING = 41458
PERL5_CPAN_IS_RUNNING = 41458
SHELL = /bin/sh
TERM = xterm
Perl special variables (and OS-specific diagnostics, for MSWin32):
$^X = /usr/local/perl/5142/bin/perl
$UID/$EUID = 0 / 0
$GID = 0 0 1 2 3 4 5 8 9 12 20 29 61 80 701 702 33
$EGID = 0 0 1 2 3 4 5 8 9 12 20 29 61 80 701 702 33
Perl module toolchain versions installed:
Module Have
------------------- ---------
CPAN 1.9600_01
CPAN::Meta 2.143240
Cwd 3.75
ExtUtils::CBuilder 0.280236
ExtUtils::Command 7.62
ExtUtils::Install 2.06
ExtUtils::MakeMaker 7.62
ExtUtils::Manifest 1.70
ExtUtils::ParseXS 3.35
File::Spec 3.75
JSON 4.03
JSON::PP 4.06
Module::Build 0.4231
Module::Signature n/a
Parse::CPAN::Meta 1.4414
Test::Harness 3.32
Test::More 1.302186
YAML 1.30
YAML::Syck 1.27
version 0.9929
--
Summary of my perl5 (revision 5 version 14 subversion 2) configuration:
Platform:
osname=darwin, osvers=12.5.0, archname=darwin-2level
uname='darwin tucumcari.home 12.5.0 darwin kernel version 12.5.0: sun sep 29 13:33:47 pdt 2013; root:xnu-2050.48.12~1release_x86_64 x86_64 '
config_args='-Dprefix=/usr/local/perl/5142'
hint=recommended, useposix=true, d_sigaction=define
useithreads=undef, usemultiplicity=undef
useperlio=define, d_sfio=undef, uselargefiles=define, usesocks=undef
use64bitint=define, use64bitall=define, uselongdouble=undef
usemymalloc=n, bincompat5005=undef
Compiler:
cc='gcc', ccflags ='-fno-common -DPERL_DARWIN -fno-strict-aliasing -pipe -fstack-protector -I/usr/local/include -I/opt/local/include',
optimize='-O3',
cppflags='-fno-common -DPERL_DARWIN -fno-strict-aliasing -pipe -fstack-protector -I/usr/local/include -I/opt/local/include'
ccversion='', gccversion='4.2.1 (Based on Apple Inc. build 5658) (LLVM build 2336.11.00)', gccosandvers=''
intsize=4, longsize=8, ptrsize=8, doublesize=8, byteorder=12345678
d_longlong=define, longlongsize=8, d_longdbl=define, longdblsize=16
ivtype='long', ivsize=8, nvtype='double', nvsize=8, Off_t='off_t', lseeksize=8
alignbytes=8, prototype=define
Linker and Libraries:
ld='env MACOSX_DEPLOYMENT_TARGET=10.3 gcc', ldflags =' -fstack-protector -L/usr/local/lib -L/opt/local/lib'
libpth=/usr/local/lib /opt/local/lib /usr/lib
libs=-lgdbm -ldbm -ldl -lm -lutil -lc
perllibs=-ldl -lm -lutil -lc
libc=, so=dylib, useshrplib=false, libperl=libperl.a
gnulibc_version=''
Dynamic Linking:
dlsrc=dl_dlopen.xs, dlext=bundle, d_dlsymun=undef, ccdlflags=' '
cccdlflags=' ', lddlflags=' -bundle -undefined dynamic_lookup -L/usr/local/lib -L/opt/local/lib -fstack-protector'
Characteristics of this binary (from libperl):
Compile-time options: PERL_DONT_CREATE_GVSV PERL_MALLOC_WRAP
PERL_PRESERVE_IVUV USE_64_BIT_ALL USE_64_BIT_INT
USE_LARGE_FILES USE_PERLIO USE_PERL_ATOF
Built under darwin
Compiled at Jun 17 2014 19:24:30
%ENV:
PERL5LIB=""
PERL5OPT=""
PERL5_CPANPLUS_IS_RUNNING="41458"
PERL5_CPAN_IS_RUNNING="41458"
@INC:
/usr/local/perl/5142/lib/site_perl/5.14.2/darwin-2level
/usr/local/perl/5142/lib/site_perl/5.14.2
/usr/local/perl/5142/lib/5.14.2/darwin-2level
/usr/local/perl/5142/lib/5.14.2
.