Char-Hebrew v1.15 Perl 5 v5.24.1 x86_64-linux
- Status
- Pass
- From
- Slaven Rezić (SREZIC)
- Dist
-
Char-Hebrew v1.15
- Platform
- Perl 5 v5.24.1 x86_64-linux
- Date
- 2019-05-03T08:21:46
- ID
- 7e108594-6d7c-11e9-9d5c-99611f24ea8f
This distribution has been tested as part of the CPAN Testers
project, supporting the Perl programming language. See
http://wiki.cpantesters.org/ for more information or email
questions to cpan-testers-discuss@perl.org
--
Dear INABA Hitoshi,
This is a computer-generated report for Char-Hebrew-1.15
on perl 5.24.1, created by CPAN-Reporter-1.2018.
Thank you for uploading your work to CPAN. Congratulations!
All tests were successful.
Sections of this report:
* Tester comments
* Program output
* Prerequisites
* Environment and other context
------------------------------
TESTER COMMENTS
------------------------------
Additional comments from tester:
none provided
------------------------------
PROGRAM OUTPUT
------------------------------
Output from '/usr/bin/make test':
PERL_DL_NONLAZY=1 "/opt/perl-5.24.1/bin/perl" "-Iblib/lib" "-Iblib/arch" test.pl
1..1
ok - 1
PERL_DL_NONLAZY=1 "/opt/perl-5.24.1/bin/perl" "-MExtUtils::Command::MM" "-MTest::Harness" "-e" "undef *Test::Harness::Switches; test_harness(0, 'blib/lib', 'blib/arch')" t/*/*.t
t/Hebrew/023_charclass.t ............... ok
t/Hebrew/024_charclass.t ............... ok
t/Hebrew/025_charclass.t ............... ok
t/Hebrew/026_charclass.t ............... ok
t/Hebrew/027_charclass.t ............... ok
t/Hebrew/028_charclass.t ............... ok
t/Hebrew/029_charclass.t ............... ok
t/Hebrew/030_charclass.t ............... ok
t/Hebrew/031_charclass.t ............... ok
t/Hebrew/032_charclass.t ............... ok
t/Hebrew/033_charclass.t ............... ok
t/Hebrew/034_charclass.t ............... ok
t/Hebrew/035_charclass.t ............... ok
t/Hebrew/036_charclass.t ............... ok
t/Hebrew/043_charclass.t ............... ok
t/Hebrew/046_context_split.t ........... ok
t/Hebrew/051_split.t ................... ok
t/Hebrew/052_split.t ................... ok
t/Hebrew/053_option_s.t ................ ok
t/Hebrew/054_option_s.t ................ ok
t/Hebrew/055_option_s.t ................ ok
t/Hebrew/056_option_s.t ................ ok
t/Hebrew/058_option_s.t ................ ok
t/Hebrew/065_option_s.t ................ ok
t/Hebrew/069_respchar_s.t .............. ok
t/Hebrew/073_respchar_s.t .............. ok
t/Hebrew/096_cclass.t .................. ok
t/Hebrew/098_jperlprint.t .............. ok
t/Hebrew/099_jperlsplit.t .............. ok
t/Hebrew/102_jperlre.t ................. ok
t/Hebrew/103_jperlre.t ................. ok
t/Hebrew/104_jperlre.t ................. ok
t/Hebrew/105_jperlre.t ................. ok
t/Hebrew/106_jperlre.t ................. ok
t/Hebrew/107_jperlre.t ................. ok
t/Hebrew/108_jperlre.t ................. ok
t/Hebrew/110_jperlre.t ................. ok
t/Hebrew/115_jperlre.t ................. ok
t/Hebrew/116_jperlre.t ................. ok
t/Hebrew/117_jperlre.t ................. ok
t/Hebrew/118_jperlre.t ................. ok
t/Hebrew/123_jperlre.t ................. ok
t/Hebrew/124_jperlre.t ................. ok
t/Hebrew/127_jperlre.t ................. ok
t/Hebrew/128_jperlre.t ................. ok
t/Hebrew/129_jperlre.t ................. ok
t/Hebrew/130_jperlre.t ................. ok
t/Hebrew/131_jperlre.t ................. ok
t/Hebrew/132_jperlre.t ................. ok
t/Hebrew/133_jperlre.t ................. ok
t/Hebrew/134_jperlre.t ................. ok
t/Hebrew/135_jperlre.t ................. ok
t/Hebrew/136_jperlre.t ................. ok
t/Hebrew/137_jperlre.t ................. ok
t/Hebrew/139_jperlre.t ................. ok
t/Hebrew/140_jperlre.t ................. ok
t/Hebrew/141_jperlre.t ................. ok
t/Hebrew/142_jperlre.t ................. ok
t/Hebrew/147_jperlre.t ................. ok
t/Hebrew/148_jperlre.t ................. ok
t/Hebrew/150_jperlre.t ................. ok
t/Hebrew/151_jperlre.t ................. ok
t/Hebrew/152_jperlre.t ................. ok
t/Hebrew/153_jperlre.t ................. ok
t/Hebrew/154_jperlre.t ................. ok
t/Hebrew/155_jperlre.t ................. ok
t/Hebrew/157_jperlre.t ................. ok
t/Hebrew/158_jperlre.t ................. ok
t/Hebrew/160_jperlre.t ................. ok
t/Hebrew/161_jperlre.t ................. ok
t/Hebrew/162_jperlre.t ................. ok
t/Hebrew/163_jperlre.t ................. ok
t/Hebrew/164_jperlre.t ................. ok
t/Hebrew/165_jperlre.t ................. ok
t/Hebrew/166_jperlre.t ................. ok
t/Hebrew/167_jperlre.t ................. ok
t/Hebrew/168_jperlre.t ................. ok
t/Hebrew/169_jperlre.t ................. ok
t/Hebrew/170_jperlre.t ................. ok
t/Hebrew/171_jperlre.t ................. ok
t/Hebrew/172_jperlre.t ................. ok
t/Hebrew/173_jperlre.t ................. ok
t/Hebrew/174_jperlre.t ................. ok
t/Hebrew/175_jperlre.t ................. ok
t/Hebrew/176_jperlre.t ................. ok
t/Hebrew/177_jperlre.t ................. ok
t/Hebrew/178_jperlre.t ................. ok
t/Hebrew/179_jperlre.t ................. ok
t/Hebrew/180_jperlre.t ................. ok
t/Hebrew/182_jperlre.t ................. ok
t/Hebrew/183_jperlre.t ................. ok
t/Hebrew/184_jperlre.t ................. ok
t/Hebrew/185_jperlre.t ................. ok
t/Hebrew/186_jperlre.t ................. ok
t/Hebrew/187_jperlre.t ................. ok
t/Hebrew/188_jperlre.t ................. ok
t/Hebrew/189_jperlre.t ................. ok
t/Hebrew/190_jperlre.t ................. ok
t/Hebrew/191_jperlre.t ................. ok
t/Hebrew/192_jperlre.t ................. ok
t/Hebrew/193_jperlre.t ................. ok
t/Hebrew/194_jperlre.t ................. ok
t/Hebrew/196_sadahiro.t ................ ok
t/Hebrew/198_sadahiro.t ................ ok
t/Hebrew/199_sadahiro.t ................ ok
t/Hebrew/246_utf8.t .................... ok
t/Hebrew/247_bytes.t ................... ok
t/Hebrew/248_jscripter.t ............... ok
t/Hebrew/249_jscripter.t ............... ok
t/Hebrew/250_jscripter.t ............... ok
t/Hebrew/251_jscripter.t ............... ok
t/Hebrew/252_jscripter.t ............... ok
t/Hebrew/253_jscripter.t ............... ok
t/Hebrew/254_lc.t ...................... ok
t/Hebrew/255_uc.t ...................... ok
t/Hebrew/256_hexbrace.t ................ ok
t/Hebrew/257_octbrace.t ................ ok
t/Hebrew/258_option_tr_r.t ............. ok
t/Hebrew/259_option_s_r.t .............. ok
t/Hebrew/260_strict.t .................. ok
t/Hebrew/261_option_m.t ................ ok
t/Hebrew/262_option_s.t ................ ok
t/Hebrew/263_s.t ....................... ok
t/Hebrew/264_s.t ....................... ok
t/Hebrew/265_c.t ....................... ok
t/Hebrew/266_r.t ....................... ok
t/Hebrew/267_n.t ....................... ok
t/Hebrew/268_n.t ....................... ok
t/Hebrew/269_p.t ....................... ok
t/Hebrew/270_x.t ....................... ok
t/Hebrew/271_posix.t ................... ok
t/Hebrew/272_posix.t ................... ok
t/Hebrew/273_posix.t ................... ok
t/Hebrew/305_null_regexp.t ............. ok
t/Hebrew/306_prematch.t ................ ok
t/Hebrew/307_match.t ................... ok
t/Hebrew/308_postmatch.t ............... ok
t/Hebrew/309_prematch.t ................ ok
t/Hebrew/310_match.t ................... ok
t/Hebrew/311_postmatch.t ............... ok
t/Hebrew/312_prematch.t ................ ok
t/Hebrew/313_match.t ................... ok
t/Hebrew/314_postmatch.t ............... ok
t/Hebrew/315_prematch.t ................ ok
t/Hebrew/316_match.t ................... ok
t/Hebrew/317_postmatch.t ............... ok
t/Hebrew/318_foldcase.t ................ ok
t/Hebrew/319_sqlite.t .................. ok
t/Hebrew/320_split.t ................... ok
t/Hebrew/321_perlrecharclass.t ......... ok
t/Hebrew/322_perlre_v.t ................ ok
t/Hebrew/323_charclass_p.t ............. ok
t/Hebrew/324_charclass_n.t ............. ok
t/Hebrew/329_charclass_pi.t ............ ok
t/Hebrew/330_charclass_ni.t ............ ok
t/Hebrew/335_negated_s.t ............... ok
t/Hebrew/338_regexp_z.t ................ ok
t/Hebrew/339_getc.t .................... ok
t/Hebrew/340_getc.t .................... ok
t/Hebrew/341_getc.t .................... ok
t/Hebrew/342_getc.t .................... ok
t/Hebrew/343_getc.t .................... ok
t/Hebrew/344_getc.t .................... ok
t/Hebrew/348_lsubstr_assign.t .......... ok
t/Hebrew/349_lsubstr_tr.t .............. ok
t/Hebrew/350_lsubstr_sub.t ............. ok
t/Hebrew/351_substr_perldoc.t .......... ok
t/Hebrew/352_substr_perldoc.t .......... ok
t/Hebrew/353_substr_perldoc.t .......... ok
t/Hebrew/354_substr_perldoc.t .......... ok
t/Hebrew/355_substr_perldoc.t .......... ok
t/Hebrew/356_split_longstr.t ........... ok
t/Hebrew/361_split_perl518.t ........... ok
t/Hebrew/364_useversion.t .............. ok
t/Hebrew/365_useversion.t .............. ok
t/Hebrew/368_prototypeattr.t ........... ok
t/Hebrew/369_postderef.t ............... ok
t/Hebrew/370_postderef_gref.t .......... ok
t/Hebrew/371_postderef_slice.t ......... ok
t/Hebrew/372_postderef_hashslice.t ..... ok
t/Hebrew/373_postderef_interpolates.t .. ok
t/Hebrew/374_hashslice.t ............... ok
t/Hebrew/375_yadayada.t ................ ok
t/Hebrew/376_eval_wquote.t ............. ok
t/Hebrew/377_eval_qq.t ................. ok
t/Hebrew/378_eval_heredoc_qq.t ......... ok
t/Hebrew/379_eval_heredoc.t ............ ok
t/Hebrew/380_eval_squote.t ............. ok
t/Hebrew/381_eval_q.t .................. ok
t/Hebrew/382_eval_heredoc_q.t .......... ok
t/Hebrew/383_eval_var.t ................ ok
t/Hebrew/384_eval_omit.t ............... ok
t/Hebrew/385_eval_block.t .............. ok
t/Hebrew/386_hebreweval_wquote.t ....... ok
t/Hebrew/387_hebreweval_qq.t ........... ok
t/Hebrew/388_hebreweval_heredoc_qq.t ... ok
t/Hebrew/389_hebreweval_heredoc.t ...... ok
t/Hebrew/390_hebreweval_squote.t ....... ok
t/Hebrew/391_hebreweval_q.t ............ ok
t/Hebrew/392_hebreweval_heredoc_q.t .... ok
t/Hebrew/393_hebreweval_var.t .......... ok
t/Hebrew/394_hebreweval_omit.t ......... ok
t/Hebrew/395_hebreweval_block.t ........ ok
t/Hebrew/396_double_diamond.t .......... ok
t/Hebrew/397_bitwise_op.t .............. ok
t/Hebrew/398_non_capturing.t ........... ok
t/Hebrew/399_indented_heredoc_qq.t ..... ok
t/Hebrew/400_indented_heredoc_q.t ...... ok
t/Hebrew/401_indented_heredoc_qx.t ..... ok
t/Hebrew/402_regexp_xx.t ............... ok
All tests successful.
Files=210, Tests=5623, 16 wallclock secs ( 0.46 usr 0.80 sys + 12.12 cusr 2.47 csys = 15.85 CPU)
Result: PASS
------------------------------
PREREQUISITES
------------------------------
Prerequisite modules loaded:
build_requires:
Module Need Have
------------------- ---- ----
ExtUtils::MakeMaker 0 7.34
------------------------------
ENVIRONMENT AND OTHER CONTEXT
------------------------------
Environment variables:
LANG = en_US.UTF-8
PATH = /usr/local/bin:/usr/bin:/bin:/usr/local/sbin:/usr/sbin:/sbin:/home/cpansand/bin/linux-gnu:/home/cpansand/bin/sh:/home/cpansand/bin:/usr/games:/home/cpansand/devel:/home/eserte/src/srezic-misc/scripts
PERL5LIB =
PERL5OPT =
PERL5_CPANPLUS_IS_RUNNING = 32440
PERL5_CPAN_IS_RUNNING = 32440
PERL5_CPAN_IS_RUNNING_IN_RECURSION = 27215,32440
PERLDOC = -MPod::Perldoc::ToTextOverstrike
PERL_BATCH = yes
PERL_CANARY_STABILITY_NOPROMPT = 1
PERL_CPAN_REPORTER_CONFIG = /var/tmp/cpansmoker-1023/2019050306/cpanreporter_001_config.ini
PERL_EXTUTILS_AUTOINSTALL = --defaultdeps
SHELL = /usr/bin/zsh
TERM = screen
TMPDIR = /var/tmp/cpansmoker-1023/2019050306
Perl special variables (and OS-specific diagnostics, for MSWin32):
$^X = /opt/perl-5.24.1/bin/perl
$UID/$EUID = 1023 / 1023
$GID = 1023 1023
$EGID = 1023 1023
Perl module toolchain versions installed:
Module Have
------------------- --------
CPAN 2.16
CPAN::Meta 2.150010
Cwd 3.75
ExtUtils::CBuilder 0.280230
ExtUtils::Command 7.34
ExtUtils::Install 2.14
ExtUtils::MakeMaker 7.34
ExtUtils::Manifest 1.72
ExtUtils::ParseXS 3.31
File::Spec 3.75
JSON 4.02
JSON::PP 4.02
Module::Build 0.4224
Module::Signature 0.83
Parse::CPAN::Meta 2.150010
Test::Harness 3.42
Test::More 1.302164
YAML 1.26
YAML::Syck 1.31
version 0.9924
--
Summary of my perl5 (revision 5 version 24 subversion 1) configuration:
Platform:
osname=linux, osvers=4.4.0-81-generic, archname=x86_64-linux
uname='linux ubuntu16 4.4.0-81-generic #104-ubuntu smp wed jun 14 08:17:06 utc 2017 x86_64 x86_64 x86_64 gnulinux '
config_args='-ds -e -Dprefix=/opt/perl-5.24.1 -Dcf_email=srezic@cpan.org'
hint=recommended, useposix=true, d_sigaction=define
useithreads=undef, usemultiplicity=undef
use64bitint=define, use64bitall=define, uselongdouble=undef
usemymalloc=n, bincompat5005=undef
Compiler:
cc='cc', ccflags ='-fwrapv -fno-strict-aliasing -pipe -fstack-protector-strong -I/usr/local/include -D_LARGEFILE_SOURCE -D_FILE_OFFSET_BITS=64',
optimize='-O2',
cppflags='-fwrapv -fno-strict-aliasing -pipe -fstack-protector-strong -I/usr/local/include'
ccversion='', gccversion='5.4.0 20160609', gccosandvers=''
intsize=4, longsize=8, ptrsize=8, doublesize=8, byteorder=12345678, doublekind=3
d_longlong=define, longlongsize=8, d_longdbl=define, longdblsize=16, longdblkind=3
ivtype='long', ivsize=8, nvtype='double', nvsize=8, Off_t='off_t', lseeksize=8
alignbytes=8, prototype=define
Linker and Libraries:
ld='cc', ldflags =' -fstack-protector-strong -L/usr/local/lib'
libpth=/usr/local/lib /usr/lib/gcc/x86_64-linux-gnu/5/include-fixed /usr/include/x86_64-linux-gnu /usr/lib /lib/x86_64-linux-gnu /lib/../lib /usr/lib/x86_64-linux-gnu /usr/lib/../lib /lib
libs=-lpthread -lnsl -lgdbm -ldb -ldl -lm -lcrypt -lutil -lc -lgdbm_compat
perllibs=-lpthread -lnsl -ldl -lm -lcrypt -lutil -lc
libc=libc-2.23.so, so=so, useshrplib=false, libperl=libperl.a
gnulibc_version='2.23'
Dynamic Linking:
dlsrc=dl_dlopen.xs, dlext=so, d_dlsymun=undef, ccdlflags='-Wl,-E'
cccdlflags='-fPIC', lddlflags='-shared -O2 -L/usr/local/lib -fstack-protector-strong'
Characteristics of this binary (from libperl):
Compile-time options: HAS_TIMES PERLIO_LAYERS PERL_COPY_ON_WRITE
PERL_DONT_CREATE_GVSV
PERL_HASH_FUNC_ONE_AT_A_TIME_HARD PERL_MALLOC_WRAP
PERL_PRESERVE_IVUV USE_64_BIT_ALL USE_64_BIT_INT
USE_LARGE_FILES USE_LOCALE USE_LOCALE_COLLATE
USE_LOCALE_CTYPE USE_LOCALE_NUMERIC USE_LOCALE_TIME
USE_PERLIO USE_PERL_ATOF
Built under linux
Compiled at Jun 21 2017 05:36:18
%ENV:
PERL5LIB=""
PERL5OPT=""
PERL5_CPANPLUS_IS_RUNNING="32440"
PERL5_CPAN_IS_RUNNING="32440"
PERL5_CPAN_IS_RUNNING_IN_RECURSION="27215,32440"
PERLDOC="-MPod::Perldoc::ToTextOverstrike"
PERL_BATCH="yes"
PERL_CANARY_STABILITY_NOPROMPT="1"
PERL_CPAN_REPORTER_CONFIG="/var/tmp/cpansmoker-1023/2019050306/cpanreporter_001_config.ini"
PERL_EXTUTILS_AUTOINSTALL="--defaultdeps"
@INC:
/opt/perl-5.24.1/lib/site_perl/5.24.1/x86_64-linux
/opt/perl-5.24.1/lib/site_perl/5.24.1
/opt/perl-5.24.1/lib/5.24.1/x86_64-linux
/opt/perl-5.24.1/lib/5.24.1
.