Back
From: Gabor Szabo (SZABGAB)
Subject: PASS HTML-FormFu-ExtJS-0.090 v5.14.1 GNU/Linux
Date: 2011-06-20T15:55:15Z
This distribution has been tested as part of the CPAN Testers
project, supporting the Perl programming language. See
http://wiki.cpantesters.org/ for more information or email
questions to cpan-testers-discuss@perl.org
--
Dear Moritz Onken,
This is a computer-generated report for HTML-FormFu-ExtJS-0.090
on perl 5.14.1, created by CPAN-Reporter-1.1902.
Thank you for uploading your work to CPAN. Congratulations!
All tests were successful.
Sections of this report:
* Tester comments
* Program output
* Prerequisites
* Environment and other context
------------------------------
TESTER COMMENTS
------------------------------
Additional comments from tester:
this report is from an automated smoke testing program
and was not reviewed by a human for accuracy
------------------------------
PROGRAM OUTPUT
------------------------------
Output from './Build test':
t/00-compile.t .................. ok
#
#
# perl: v5.14.1 (wanted any version) on linux from /home/szabgab/perl-5.14.1-default/bin/perl
#
# Carp => 1.20 (want any version)
# Class::C3 => 0.23 (want any version)
# DBIx::Class => 0.08192 (want any version)
# DBIx::Class::Core => <undef> (want any version)
# DBIx::Class::Schema => <undef> (want any version)
# Data::Dumper => 2.130_02 (want any version)
# DateTime => 0.70 (want any version)
# Exporter => 5.64_03 (want any version)
# File::Find => 1.19 (want any version)
# File::Temp => 0.22 (want any version)
# HTML::FormFu => 0.09003 (want 0.09)
# HTML::FormFu::Element::Block => <undef> (want any version)
# HTML::FormFu::Element::Text => <undef> (want any version)
# HTML::FormFu::Util => <undef> (want any version)
# Hash::Merge::Simple => 0.051 (want any version)
# JavaScript::Dumper => 0.011 (want any version)
# Module::Build => 0.38 (want 0.3601)
# Moose => 2.0009 (want any version)
# Scalar::Util => 1.23 (want any version)
# Test::More => 0.98 (want 0.88)
# Tie::Hash::Indexed => 0.05 (want any version)
# overload => 1.13 (want any version)
# utf8 => 1.09 (want any version)
#
# Thanks for using my code. I hope it works for you.
# If not, please try and include this output in the bug report.
# That will help me reproduce the issue and solve you problem.
#
t/000-report-versions-tiny.t .... ok
t/column_model/01-basic.t ....... ok
t/elements/blank.t .............. ok
t/elements/checkbox.t ........... ok
t/elements/checkboxgroup.t ...... ok
t/elements/datetime.t ........... ok
t/elements/fieldset.t ........... ok
t/elements/label.t .............. ok
t/elements/optgroup.t ........... ok
t/elements/panel.t .............. ok
t/elements/select.t ............. ok
t/elements/text.t ............... ok
t/examples.t .................... ok
t/grid_data/dbic/advanced.t ..... skipped: needs DBIx::Class, HTML::FormFu::Model::DBIC and DBD::SQLite for testing
t/grid_data/dbic/basic.t ........ skipped: needs DBIx::Class, HTML::FormFu::Model::DBIC and DBD::SQLite for testing
t/grid_data/dbic/groups.t ....... skipped: needs DBIx::Class, HTML::FormFu::Model::DBIC and DBD::SQLite for testing
t/grid_data/dbic/inflator.t ..... skipped: needs DBIx::Class, HTML::FormFu::Model::DBIC and DBD::SQLite for testing
t/grid_data/hashref/basic.t ..... ok
t/grid_data/hashref/inflator.t .. ok
t/record/basic.t ................ ok
t/release-has-version.t ......... skipped: these tests are for release candidate testing
t/release-kwalitee.t ............ skipped: these tests are for release candidate testing
t/release-minimum-version.t ..... skipped: these tests are for release candidate testing
t/release-pod-coverage.t ........ skipped: these tests are for release candidate testing
t/release-pod-syntax.t .......... skipped: these tests are for release candidate testing
t/render/basic.t ................ ok
t/render/custom_attributes.t .... ok
t/render/file_upload.t .......... ok
t/render/render_item.t .......... ok
t/validation/basic.t ............ ok
t/validation/inflate.t .......... ok
All tests successful.
Files=32, Tests=112, 19 wallclock secs ( 0.09 usr 0.07 sys + 17.51 cusr 1.24 csys = 18.91 CPU)
Result: PASS
------------------------------
PREREQUISITES
------------------------------
Prerequisite modules loaded:
requires:
Module Need Have
---------------------------- ------ --------
Carp 0 1.20
Class::C3 0 0.23
Data::Dumper 0 2.130_02
Exporter 0 5.64_03
Hash::Merge::Simple 0 0.051
HTML::FormFu 0.09 0.09003
HTML::FormFu::Element::Block 0 0
HTML::FormFu::Util 0 0
JavaScript::Dumper 0 0.011
Moose 0 2.0009
Scalar::Util 0 1.23
Tie::Hash::Indexed 0 0.05
utf8 0 1.09
build_requires:
Module Need Have
---------------------------- ------ --------
DateTime 0 0.70
DBIx::Class 0 0.08192
DBIx::Class::Core 0 0
DBIx::Class::Schema 0 0
File::Find 0 1.19
File::Temp 0 0.22
HTML::FormFu::Element::Text 0 0
Module::Build 0.3601 0.3800
overload 0 1.13
Test::More 0.88 0.98
configure_requires:
Module Need Have
---------------------------- ------ --------
Module::Build 0.3601 0.3800
------------------------------
ENVIRONMENT AND OTHER CONTEXT
------------------------------
Environment variables:
AUTOMATED_TESTING = 1
LANG = en_US.UTF-8
PATH = /home/szabgab/perl-5.14.1-default/bin:/usr/local/bin:/usr/bin:/bin:/usr/local/games:/usr/games
PERL5LIB =
PERL5OPT =
PERL5_CPANPLUS_IS_RUNNING = 7722
PERL5_CPAN_IS_RUNNING = 7722
PERL5_CPAN_IS_RUNNING_IN_RECURSION = 23054,7722
PERL_CR_SMOKER_CURRENT = CatalystX-ExtJS-2.1.3
PERL_EXTUTILS_AUTOINSTALL = --defaultdeps
PERL_MM_USE_DEFAULT = 1
SHELL = /bin/bash
TERM = xterm
Perl special variables (and OS-specific diagnostics, for MSWin32):
$^X = /home/szabgab/perl-5.14.1-default/bin/perl
$UID/$EUID = 1001 / 1001
$GID = 1001 1001
$EGID = 1001 1001
Perl module toolchain versions installed:
Module Have
------------------- --------
CPAN 1.9600
Cwd 3.36
ExtUtils::CBuilder 0.280203
ExtUtils::Command 1.17
ExtUtils::Install 1.56
ExtUtils::MakeMaker 6.57_05
ExtUtils::Manifest 1.58
ExtUtils::ParseXS 2.2210
File::Spec 3.33
Module::Build 0.3800
Module::Signature 0.68
Test::Harness 3.23
Test::More 0.98
YAML 0.73
YAML::Syck 1.17
version 0.88
--
Summary of my perl5 (revision 5 version 14 subversion 1) configuration:
Platform:
osname=linux, osvers=2.6.35-28-generic, archname=x86_64-linux
uname='linux localhost 2.6.35-28-generic #50-ubuntu smp fri mar 18 18:42:20 utc 2011 x86_64 gnulinux '
config_args='-des -Dprefix=/home/szabgab/perl-5.14.1-default'
hint=recommended, useposix=true, d_sigaction=define
useithreads=undef, usemultiplicity=undef
useperlio=define, d_sfio=undef, uselargefiles=define, usesocks=undef
use64bitint=define, use64bitall=define, uselongdouble=undef
usemymalloc=n, bincompat5005=undef
Compiler:
cc='cc', ccflags ='-fno-strict-aliasing -pipe -fstack-protector -I/usr/local/include -D_LARGEFILE_SOURCE -D_FILE_OFFSET_BITS=64',
optimize='-O2',
cppflags='-fno-strict-aliasing -pipe -fstack-protector -I/usr/local/include'
ccversion='', gccversion='4.4.5', gccosandvers=''
intsize=4, longsize=8, ptrsize=8, doublesize=8, byteorder=12345678
d_longlong=define, longlongsize=8, d_longdbl=define, longdblsize=16
ivtype='long', ivsize=8, nvtype='double', nvsize=8, Off_t='off_t', lseeksize=8
alignbytes=8, prototype=define
Linker and Libraries:
ld='cc', ldflags =' -fstack-protector -L/usr/local/lib'
libpth=/usr/local/lib /lib/../lib /usr/lib/../lib /lib /usr/lib /usr/lib/x86_64-linux-gnu /lib64 /usr/lib64
libs=-lnsl -ldl -lm -lcrypt -lutil -lc
perllibs=-lnsl -ldl -lm -lcrypt -lutil -lc
libc=/lib/libc-2.12.1.so, so=so, useshrplib=false, libperl=libperl.a
gnulibc_version='2.12.1'
Dynamic Linking:
dlsrc=dl_dlopen.xs, dlext=so, d_dlsymun=undef, ccdlflags='-Wl,-E'
cccdlflags='-fPIC', lddlflags='-shared -O2 -L/usr/local/lib -fstack-protector'
Characteristics of this binary (from libperl):
Compile-time options: PERL_DONT_CREATE_GVSV PERL_MALLOC_WRAP
PERL_PRESERVE_IVUV USE_64_BIT_ALL USE_64_BIT_INT
USE_LARGE_FILES USE_PERLIO USE_PERL_ATOF
Built under linux
Compiled at Jun 17 2011 16:47:22
%ENV:
PERL5LIB=""
PERL5OPT=""
PERL5_CPANPLUS_IS_RUNNING="7722"
PERL5_CPAN_IS_RUNNING="7722"
PERL5_CPAN_IS_RUNNING_IN_RECURSION="23054,7722"
PERL_CR_SMOKER_CURRENT="CatalystX-ExtJS-2.1.3"
PERL_EXTUTILS_AUTOINSTALL="--defaultdeps"
PERL_MM_USE_DEFAULT="1"
@INC:
/home/szabgab/perl-5.14.1-default/lib/site_perl/5.14.1/x86_64-linux
/home/szabgab/perl-5.14.1-default/lib/site_perl/5.14.1
/home/szabgab/perl-5.14.1-default/lib/5.14.1/x86_64-linux
/home/szabgab/perl-5.14.1-default/lib/5.14.1
.