Module-ScanDeps v1.35 Perl 5 v5.36.1 x86_64-linux-thread-multi-quadmath
- Status
- Pass
- From
- Andreas J. König (ANDK)
- Dist
-
Module-ScanDeps v1.35
- Platform
- Perl 5 v5.36.1 x86_64-linux-thread-multi-quadmath
- Date
- 2023-11-10T15:06:53
- ID
- c84fa03e-7fda-11ee-8c97-33e9563b5b90
This distribution has been tested as part of the CPAN Testers
project, supporting the Perl programming language. See
http://wiki.cpantesters.org/ for more information or email
questions to cpan-testers-discuss@perl.org
--
Dear Roderich Schupp,
This is a computer-generated report for Module-ScanDeps-1.35
on perl 5.36.1, created by CPAN-Reporter-1.2018.
Thank you for uploading your work to CPAN. Congratulations!
All tests were successful.
Sections of this report:
* Tester comments
* Program output
* Prerequisites
* Environment and other context
------------------------------
TESTER COMMENTS
------------------------------
Additional comments from tester:
this report is from an automated smoke testing program
and was not reviewed by a human for accuracy
------------------------------
PROGRAM OUTPUT
------------------------------
Output from '/usr/bin/make test':
PERL_DL_NONLAZY=1 "/home/sand/src/perl/repoperls/installed-perls/host/k93msid/v5.36.1/db45/bin/perl" "-MExtUtils::Command::MM" "-MTest::Harness" "-e" "undef *Test::Harness::Switches; test_harness(0, 'blib/lib', 'blib/arch')" t/*.t
t/0-pod.t ....................................... ok
t/1-static_functional_interface_real.t .......... ok
t/10-case-insensitive-keys.t .................... skipped: Test irrelevant on case-sensitive systems
t/12-ScanFileRE.t ............................... ok
t/13-static_prefork_test.t ...................... ok
t/14-scan_chunk.t ............................... ok
0
Couldn't retrieve data from file deps_cache.dat. Building new cache.
t/14-static_functional_cached.t ................. ok
t/16-scan_line.t ................................ ok
t/17-private_methods.t .......................... ok
# Use of runtime loader module Module::Implementation detected. Results of static scanning may be incomplete.
# Use of runtime loader module Module::Runtime detected. Results of static scanning may be incomplete.
t/18-findbin.t .................................. ok
# use autosplitted module - static scan
# use autosplitted module - runtime scan, absolute search path
# use autosplitted module - runtime scan, relative search path
t/19-autosplit.t ................................ ok
t/2-static_functional_interface_fake.t .......... ok
# Use of runtime loader module Module::Runtime detected. Results of static scanning may be incomplete.
t/3-static_oo_interface_real.t .................. ok
t/4-static_functional_interface_options_fake.t .. ok
# Use of runtime loader module Module::Runtime detected. Results of static scanning may be incomplete.
t/5-pluggable_fake.t ............................ ok
t/6-file-glob.t ................................. ok
# dynamic modules used for test: File::Glob Data::Dumper List::Util Time::HiRes Compress::Raw::Zlib
# check_bundle_path:static for File::Glob ...
/tmp/wPEBDcNECE syntax OK
# check_bundle_path:compile for File::Glob ...
# check_bundle_path:execute for File::Glob ...
# check_bundle_path:execute_with_args for File::Glob ...
# check_bundle_path:static for Data::Dumper ...
/tmp/pJjGkiaGl2 syntax OK
# check_bundle_path:compile for Data::Dumper ...
# check_bundle_path:execute for Data::Dumper ...
# check_bundle_path:execute_with_args for Data::Dumper ...
# check_bundle_path:static for List::Util ...
/tmp/uqMarrKoNj syntax OK
# check_bundle_path:compile for List::Util ...
# check_bundle_path:execute for List::Util ...
# check_bundle_path:execute_with_args for List::Util ...
# check_bundle_path:static for Time::HiRes ...
/tmp/7sDi8iikHM syntax OK
# check_bundle_path:compile for Time::HiRes ...
# check_bundle_path:execute for Time::HiRes ...
# check_bundle_path:execute_with_args for Time::HiRes ...
# check_bundle_path:static for Compress::Raw::Zlib ...
/tmp/iaB7zHJW9d syntax OK
# check_bundle_path:compile for Compress::Raw::Zlib ...
# check_bundle_path:execute for Compress::Raw::Zlib ...
# check_bundle_path:execute_with_args for Compress::Raw::Zlib ...
t/7-check-dynaloader.t .......................... ok
t/8-check_duplicated_entries.t .................. ok
t/9-check_path_to_inc_name.t .................... ok
t/rt90869.t ..................................... ok
All tests successful.
Files=20, Tests=181, 53 wallclock secs ( 0.22 usr 0.34 sys + 13.62 cusr 5.03 csys = 19.21 CPU)
Result: PASS
------------------------------
PREREQUISITES
------------------------------
Prerequisite modules loaded:
requires:
Module Need Have
------------------- -------- --------
File::Spec 0 3.84
File::Temp 0 0.2311
Getopt::Long 0 2.54
List::Util 1.33 1.63
Module::Metadata 0 1.000037
perl 5.008009 5.036001
Text::ParseWords 0 3.31
version 0 0.9930
build_requires:
Module Need Have
------------------- -------- --------
ExtUtils::MakeMaker 0 7.70
IPC::Run3 0.048 0.048
Test::More 0 1.302195
Test::Requires 0 0.11
configure_requires:
Module Need Have
------------------- -------- --------
ExtUtils::MakeMaker 0 7.70
------------------------------
ENVIRONMENT AND OTHER CONTEXT
------------------------------
Environment variables:
AUTOMATED_TESTING = 1
LANG = en_US.UTF-8
LANGUAGE = en_US:en
PATH = /home/sand/bin:/usr/local/bin:/usr/bin:/bin:/usr/games:/usr/local/perl/bin:/usr/X11/bin:/sbin:/usr/sbin
PERL5LIB =
PERL5OPT =
PERL5_CPANPLUS_IS_RUNNING = 745037
PERL5_CPAN_IS_RUNNING = 745037
PERL_CANARY_STABILITY_NOPROMPT = 1
PERL_MM_USE_DEFAULT = 1
PERL_USE_UNSAFE_INC = 1
SHELL = /usr/bin/zsh
TERM = screen
Perl special variables (and OS-specific diagnostics, for MSWin32):
$^X = /home/sand/src/perl/repoperls/installed-perls/host/k93msid/v5.36.1/db45/bin/perl
$UID/$EUID = 1005 / 1005
$GID = 1005 1005
$EGID = 1005 1005
Perl module toolchain versions installed:
Module Have
------------------- --------
CPAN 2.34
CPAN::Meta 2.150010
Cwd 3.84
ExtUtils::CBuilder 0.280236
ExtUtils::Command 7.70
ExtUtils::Install 2.20
ExtUtils::MakeMaker 7.70
ExtUtils::Manifest 1.75
ExtUtils::ParseXS 3.45
File::Spec 3.84
JSON 4.10
JSON::PP 4.17_01
Module::Build 0.4232
Module::Signature 0.88
Parse::CPAN::Meta 2.150010
Test::Harness 3.44
Test::More 1.302195
YAML 1.30
YAML::Syck 1.34
version 0.9930
--
Summary of my perl5 (revision 5 version 36 subversion 1) configuration:
Commit id: 42e3343be621a2b9cdb98befd92de43cc0b7ef3e
Platform:
osname=linux
osvers=6.1.0-7-amd64
archname=x86_64-linux-thread-multi-quadmath
uname='linux k93msid 6.1.0-7-amd64 #1 smp preempt_dynamic debian 6.1.20-1 (2023-03-19) x86_64 gnulinux '
config_args='-Dprefix=/home/sand/src/perl/repoperls/installed-perls/host/k93msid/v5.36.1/db45 -Dmyhostname=k93msid -Dinstallusrbinperl=n -Uversiononly -Dusedevel -des -Ui_db -Dlibswanted=cl pthread socket inet nsl gdbm dbm malloc dl ld sun m crypt sec util c cposix posix ucb BSD gdbm_compat -Duseithreads -Uuselongdouble -DEBUGGING=both -Dusequadmath'
hint=recommended
useposix=true
d_sigaction=define
useithreads=define
usemultiplicity=define
use64bitint=define
use64bitall=define
uselongdouble=undef
usemymalloc=n
default_inc_excludes_dot=define
Compiler:
cc='cc'
ccflags ='-D_REENTRANT -D_GNU_SOURCE -fwrapv -DDEBUGGING -fno-strict-aliasing -pipe -fstack-protector-strong -I/usr/local/include -D_LARGEFILE_SOURCE -D_FILE_OFFSET_BITS=64 -D_FORTIFY_SOURCE=2'
optimize='-O2 -g'
cppflags='-D_REENTRANT -D_GNU_SOURCE -fwrapv -DDEBUGGING -fno-strict-aliasing -pipe -fstack-protector-strong -I/usr/local/include'
ccversion=''
gccversion='12.2.0'
gccosandvers=''
intsize=4
longsize=8
ptrsize=8
doublesize=8
byteorder=12345678
doublekind=3
d_longlong=define
longlongsize=8
d_longdbl=define
longdblsize=16
longdblkind=3
ivtype='long'
ivsize=8
nvtype='__float128'
nvsize=16
Off_t='off_t'
lseeksize=8
alignbytes=16
prototype=define
Linker and Libraries:
ld='cc'
ldflags =' -fstack-protector-strong -L/usr/local/lib'
libpth=/usr/local/lib /usr/lib/x86_64-linux-gnu /usr/lib /usr/lib64
libs=-lpthread -lnsl -ldl -lm -lcrypt -lutil -lc -lquadmath
perllibs=-lpthread -lnsl -ldl -lm -lcrypt -lutil -lc -lquadmath
libc=/lib/x86_64-linux-gnu/libc.so.6
so=so
useshrplib=false
libperl=libperl.a
gnulibc_version='2.36'
Dynamic Linking:
dlsrc=dl_dlopen.xs
dlext=so
d_dlsymun=undef
ccdlflags='-Wl,-E'
cccdlflags='-fPIC'
lddlflags='-shared -O2 -g -L/usr/local/lib -fstack-protector-strong'
Characteristics of this binary (from libperl):
Compile-time options:
DEBUGGING
HAS_TIMES
MULTIPLICITY
PERLIO_LAYERS
PERL_COPY_ON_WRITE
PERL_DONT_CREATE_GVSV
PERL_MALLOC_WRAP
PERL_OP_PARENT
PERL_PRESERVE_IVUV
PERL_TRACK_MEMPOOL
PERL_USE_DEVEL
USE_64_BIT_ALL
USE_64_BIT_INT
USE_ITHREADS
USE_LARGE_FILES
USE_LOCALE
USE_LOCALE_COLLATE
USE_LOCALE_CTYPE
USE_LOCALE_NUMERIC
USE_LOCALE_TIME
USE_PERLIO
USE_PERL_ATOF
USE_QUADMATH
USE_REENTRANT_API
USE_THREAD_SAFE_LOCALE
Built under linux
Compiled at Apr 24 2023 03:05:34
%ENV:
PERL5LIB=""
PERL5OPT=""
PERL5_CPANPLUS_IS_RUNNING="745037"
PERL5_CPAN_IS_RUNNING="745037"
PERL_CANARY_STABILITY_NOPROMPT="1"
PERL_MM_USE_DEFAULT="1"
PERL_USE_UNSAFE_INC="1"
@INC:
/home/sand/src/perl/repoperls/installed-perls/host/k93msid/v5.36.1/db45/lib/site_perl/5.36.1/x86_64-linux-thread-multi-quadmath
/home/sand/src/perl/repoperls/installed-perls/host/k93msid/v5.36.1/db45/lib/site_perl/5.36.1
/home/sand/src/perl/repoperls/installed-perls/host/k93msid/v5.36.1/db45/lib/5.36.1/x86_64-linux-thread-multi-quadmath
/home/sand/src/perl/repoperls/installed-perls/host/k93msid/v5.36.1/db45/lib/5.36.1
.