Back
From: Slaven Rezić
Subject: PASS Provision-Unix-1.08 v5.24.0 GNU/Linux
Date: 2016-05-23T10:19:20Z
This distribution has been tested as part of the CPAN Testers
project, supporting the Perl programming language. See
http://wiki.cpantesters.org/ for more information or email
questions to cpan-testers-discuss@perl.org
--
Dear Matt Simerson,
This is a computer-generated report for Provision-Unix-1.08
on perl 5.24.0, created by CPAN-Reporter-1.2017.
Thank you for uploading your work to CPAN. Congratulations!
All tests were successful.
Sections of this report:
* Tester comments
* Program output
* Prerequisites
* Environment and other context
------------------------------
TESTER COMMENTS
------------------------------
Additional comments from tester:
none provided
------------------------------
PROGRAM OUTPUT
------------------------------
Output from '/usr/bin/make test':
PERL_DL_NONLAZY=1 "/opt/perl-5.24.0t/bin/perl" "-MExtUtils::Command::MM" "-MTest::Harness" "-e" "undef *Test::Harness::Switches; test_harness(0, 'blib/lib', 'blib/arch')" t/*.t
# Testing Provision::Unix 1.07, Perl 5.024000, /opt/perl-5.24.0t/bin/perl
t/00-load.t ................. ok
t/01-syntax.t ............... ok
t/author-critic.t ........... skipped: these tests are for testing by the author
t/boilerplate.t ............. ok
tinydns service dir missing (./t/tinydns). Skipping DNS tests
t/DNS.t ..................... ok
t/Group.t ................... ok
Audit History Report
launched at 2016-05-23 10:18:47
Provision::Unix loaded by main, t/linux.t, 12
searching for config provision.conf
found provision.conf-dist in ./
Provision::Unix::Utility loaded by Provision::Unix, lib/Provision/Unix.pm, 237
Provision::Unix::VirtualOS loaded by main, t/linux.t, 19
find_bin: could not find xm
find_bin: could not find vzctl
Provision::Unix::VirtualOS::Linux loaded by Provision::Unix::VirtualOS, lib/Provision/Unix/VirtualOS.pm, 869
Unable to determine your virtualization method. You need one supported hypervisor (xen, openvz) installed.
Error History Report
ERROR: 'Unable to determine your virtualization method. You need one supported hypervisor (xen, openvz) installed.' at Provision::Unix::VirtualOS, 901
t/linux.t ................... skipped: no hypervisors detected
t/release-pod-coverage.t .... skipped: these tests are for release candidate testing
t/release-pod-syntax.t ...... skipped: these tests are for release candidate testing
Audit History Report
launched at 2016-05-23 10:18:47
Provision::Unix loaded by main, t/Unix.t, 24
searching for config provision.conf
found provision.conf-dist in ./
searching for config provision.conf
found provision.conf-dist in ./
searching for config provisoin.conf
could not find provisoin.conf
test error
Error History Report
ERROR: 'could not find provisoin.conf' at Provision::Unix, 183
ERROR: 'test error' at main, 45
[==========] test status
t/Unix.t .................... ok
t/User.t .................... ok
Audit History Report
launched at 2016-05-23 10:18:47
Provision::Unix loaded by main, t/Utility.t, 34
searching for config provision.conf
found provision.conf-dist in ./
Provision::Unix::Utility loaded by main, t/Utility.t, 35
syscmd: cp TODO /tmpfs/.cpan-build-cpansand/2016052309/Provision-Unix-1.08-5BgKOJ/t/trash/
program: cp, args : TODO /tmpfs/.cpan-build-cpansand/2016052309/Provision-Unix-1.08-5BgKOJ/t/trash/
syscmd: bin is <cp> (safe)
find_bin: found /bin/cp
r:
find_bin: found /bin/gzip
find_bin: found /bin/tar
find_bin: could not find star
Error History Report
ERROR: 'find_bin: could not find star' at Provision::Unix::Utility, 770
Audit History Report
find_bin: could not find star
syscmd: /bin/tar -cf /tmpfs/.cpan-build-cpansand/2016052309/Provision-Unix-1.08-5BgKOJ/t/trash/test.tar TODO
program: /bin/tar, args : -cf /tmpfs/.cpan-build-cpansand/2016052309/Provision-Unix-1.08-5BgKOJ/t/trash/test.tar TODO
syscmd: bin is </bin/tar> (safe)
r:
syscmd: /bin/gzip -f /tmpfs/.cpan-build-cpansand/2016052309/Provision-Unix-1.08-5BgKOJ/t/trash/test.tar
program: /bin/gzip, args : -f /tmpfs/.cpan-build-cpansand/2016052309/Provision-Unix-1.08-5BgKOJ/t/trash/test.tar
syscmd: bin is </bin/gzip> (safe)
r:
found /tmpfs/.cpan-build-cpansand/2016052309/Provision-Unix-1.08-5BgKOJ/t/trash/test.tar.gz
find_bin: found /bin/tar
find_bin: found /usr/bin/file
find_bin: found /bin/gunzip
syscmd: /bin/gunzip -c /tmpfs/.cpan-build-cpansand/2016052309/Provision-Unix-1.08-5BgKOJ/t/trash/test.tar.gz | /bin/tar -xf -
program: /bin/gunzip, args : -c /tmpfs/.cpan-build-cpansand/2016052309/Provision-Unix-1.08-5BgKOJ/t/trash/test.tar.gz | /bin/tar -xf -
syscmd: bin is </bin/gunzip> (safe)
r:
extracted /tmpfs/.cpan-build-cpansand/2016052309/Provision-Unix-1.08-5BgKOJ/t/trash/test.tar.gz
file /tmpfs/.cpan-build-cpansand/2016052309/Provision-Unix-1.08-5BgKOJ/t/trash/test.tar.gz.fizzlefuzz is missing!
Error History Report
ERROR: 'find_bin: could not find star' at Provision::Unix::Utility, 770
ERROR: 'file /tmpfs/.cpan-build-cpansand/2016052309/Provision-Unix-1.08-5BgKOJ/t/trash/test.tar.gz.fizzlefuzz is missing!' at Provision::Unix::Utility, 416
Audit History Report
file /tmpfs/.cpan-build-cpansand/2016052309/Provision-Unix-1.08-5BgKOJ/t/trash/test.tar.gz.fizzlefuzz is missing!
write permission to /tmpfs/.cpan-build-cpansand/2016052309/Provision-Unix-1.08-5BgKOJ/t/trash/test.tar.gz: ok
deleted: /tmpfs/.cpan-build-cpansand/2016052309/Provision-Unix-1.08-5BgKOJ/t/trash/test.tar.gz
Audit History Report
deleted: /tmpfs/.cpan-build-cpansand/2016052309/Provision-Unix-1.08-5BgKOJ/t/trash/test.tar.gz
created /tmpfs/.cpan-build-cpansand/2016052309/Provision-Unix-1.08-5BgKOJ/t/trash/foo
find_bin: found /usr/bin/sudo
deleting file /tmpfs/.cpan-build-cpansand/2016052309/Provision-Unix-1.08-5BgKOJ/t/trash/foo
deleting file /tmpfs/.cpan-build-cpansand/2016052309/Provision-Unix-1.08-5BgKOJ/t/trash/TODO
find_bin: found /bin/mount
adding: /sys type sysfs sysfs
adding: /proc type proc proc
adding: /dev type devtmpfs udev
adding: /dev/pts type devpts devpts
adding: /run type tmpfs tmpfs
adding: / type ext4 /dev/xvda2
adding: /run/lock type tmpfs tmpfs
adding: /run/shm type tmpfs tmpfs
adding: /bbbike type ext4 /dev/xvda3
adding: /tmpfs type tmpfs tmpfs
adding: /proc/sys/fs/binfmt_misc type binfmt_misc binfmt_misc
adding: /sys/fs/fuse/connections type fusectl fusectl
adding: /home/eserte/var/cpansmoker.remote/new type fuse.sshfs home:var/cpansmoker/new
file_write: wrote 1 lines to /tmpfs/.cpan-build-cpansand/2016052309/Provision-Unix-1.08-5BgKOJ/t/trash/rw-test
/tmpfs/.cpan-build-cpansand/2016052309/Provision-Unix-1.08-5BgKOJ/t/trash/rw-test is writable
file_write: appended 1 lines to /tmpfs/.cpan-build-cpansand/2016052309/Provision-Unix-1.08-5BgKOJ/t/trash/rw-test
/tmpfs/.cpan-build-cpansand/2016052309/Provision-Unix-1.08-5BgKOJ/t/trash/rw-test is writable
archive_file: /tmpfs/.cpan-build-cpansand/2016052309/Provision-Unix-1.08-5BgKOJ/t/trash/rw-test backed up to /tmpfs/.cpan-build-cpansand/2016052309/Provision-Unix-1.08-5BgKOJ/t/trash/rw-test1463998727
write permission to /tmpfs/.cpan-build-cpansand/2016052309/Provision-Unix-1.08-5BgKOJ/t/trash/rw-test1463998727: ok
deleted: /tmpfs/.cpan-build-cpansand/2016052309/Provision-Unix-1.08-5BgKOJ/t/trash/rw-test1463998727
file (/tmpfs/.cpan-build-cpansand/2016052309/Provision-Unix-1.08-5BgKOJ/t/trash/rw-test1463998727) is missing!
Error History Report
ERROR: 'file /tmpfs/.cpan-build-cpansand/2016052309/Provision-Unix-1.08-5BgKOJ/t/trash/test.tar.gz.fizzlefuzz is missing!' at Provision::Unix::Utility, 416
ERROR: 'file (/tmpfs/.cpan-build-cpansand/2016052309/Provision-Unix-1.08-5BgKOJ/t/trash/rw-test1463998727) is missing!' at Provision::Unix::Utility, 143
Audit History Report
file (/tmpfs/.cpan-build-cpansand/2016052309/Provision-Unix-1.08-5BgKOJ/t/trash/rw-test1463998727) is missing!
/tmpfs/.cpan-build-cpansand/2016052309/Provision-Unix-1.08-5BgKOJ/t/trash/rw-test1463998727 does not exist.
/tmpfs/.cpan-build-cpansand/2016052309/Provision-Unix-1.08-5BgKOJ/t/trash/rw-test is writable
find_bin: found /bin/grep
chown: preparing to chown cpansand /tmpfs/.cpan-build-cpansand/2016052309/Provision-Unix-1.08-5BgKOJ/t/trash/rw-test
converted cpansand to a number: 1023
converted cpansand to numeric: 1023
chown: preparing to chown frobnob6i /tmpfs/.cpan-build-cpansand/2016052309/Provision-Unix-1.08-5BgKOJ/t/trash/rw-test
failed to get uid for frobnob6i
Error History Report
ERROR: 'file (/tmpfs/.cpan-build-cpansand/2016052309/Provision-Unix-1.08-5BgKOJ/t/trash/rw-test1463998727) is missing!' at Provision::Unix::Utility, 143
ERROR: '/tmpfs/.cpan-build-cpansand/2016052309/Provision-Unix-1.08-5BgKOJ/t/trash/rw-test1463998727 does not exist.' at Provision::Unix::Utility, 1741
ERROR: 'failed to get uid for frobnob6i' at Provision::Unix::Utility, 261
Audit History Report
failed to get uid for frobnob6i
chown: preparing to chown root /tmpfs/.cpan-build-cpansand/2016052309/Provision-Unix-1.08-5BgKOJ/t/trash/rw-test
converted root to a number: 0
converted root to numeric: 0
couldn't chown /tmpfs/.cpan-build-cpansand/2016052309/Provision-Unix-1.08-5BgKOJ/t/trash/rw-test: Operation not permitted
Error History Report
ERROR: 'failed to get uid for frobnob6i' at Provision::Unix::Utility, 261
ERROR: 'couldn't chown /tmpfs/.cpan-build-cpansand/2016052309/Provision-Unix-1.08-5BgKOJ/t/trash/rw-test: Operation not permitted' at Provision::Unix::Utility, 275
Audit History Report
couldn't chown /tmpfs/.cpan-build-cpansand/2016052309/Provision-Unix-1.08-5BgKOJ/t/trash/rw-test: Operation not permitted
chmod 0700 /tmpfs/.cpan-build-cpansand/2016052309/Provision-Unix-1.08-5BgKOJ/t/trash/rw-test
file /tmpfs/.cpan-build-cpansand/2016052309/Provision-Unix-1.08-5BgKOJ/t/trash/rw-test has mode: 0700
chmod 664 /tmpfs/.cpan-build-cpansand/2016052309/Provision-Unix-1.08-5BgKOJ/t/trash/rw-test
/tmpfs/.cpan-build-cpansand/2016052309/Provision-Unix-1.08-5BgKOJ/t/trash/rw-test is writable
file_write: wrote 1 lines to /tmpfs/.cpan-build-cpansand/2016052309/Provision-Unix-1.08-5BgKOJ/t/trash/rw-test
/tmpfs/.cpan-build-cpansand/2016052309/Provision-Unix-1.08-5BgKOJ/t/trash/rw-test is writable
archive_file: /tmpfs/.cpan-build-cpansand/2016052309/Provision-Unix-1.08-5BgKOJ/t/trash/rw-test backed up to /tmpfs/.cpan-build-cpansand/2016052309/Provision-Unix-1.08-5BgKOJ/t/trash/rw-test1463998727
comparing ascii files /tmpfs/.cpan-build-cpansand/2016052309/Provision-Unix-1.08-5BgKOJ/t/trash/rw-test and /tmpfs/.cpan-build-cpansand/2016052309/Provision-Unix-1.08-5BgKOJ/t/trash/rw-test1463998727 using diff
find_bin: found /usr/bin/diff
/tmpfs/.cpan-build-cpansand/2016052309/Provision-Unix-1.08-5BgKOJ/t/trash/rw-test is writable
file_write: appended 1 lines to /tmpfs/.cpan-build-cpansand/2016052309/Provision-Unix-1.08-5BgKOJ/t/trash/rw-test
comparing ascii files /tmpfs/.cpan-build-cpansand/2016052309/Provision-Unix-1.08-5BgKOJ/t/trash/rw-test and /tmpfs/.cpan-build-cpansand/2016052309/Provision-Unix-1.08-5BgKOJ/t/trash/rw-test1463998727 using diff
find_bin: found /usr/bin/diff
/tmpfs/.cpan-build-cpansand/2016052309/Provision-Unix-1.08-5BgKOJ/t/trash/rw-test is writable
archive_file: /tmpfs/.cpan-build-cpansand/2016052309/Provision-Unix-1.08-5BgKOJ/t/trash/rw-test backed up to /tmpfs/.cpan-build-cpansand/2016052309/Provision-Unix-1.08-5BgKOJ/t/trash/rw-test1463998728
comparing /tmpfs/.cpan-build-cpansand/2016052309/Provision-Unix-1.08-5BgKOJ/t/trash/rw-test and /tmpfs/.cpan-build-cpansand/2016052309/Provision-Unix-1.08-5BgKOJ/t/trash/rw-test1463998728 using md5
Digest::MD5 loaded
calculated md5: bcd1f63e4e278b04f1bbfe4682f7620e
file_write: wrote 1 lines to /tmpfs/.cpan-build-cpansand/2016052309/Provision-Unix-1.08-5BgKOJ/t/trash/rw-test.md5
calculated md5: bcd1f63e4e278b04f1bbfe4682f7620e
file_write: wrote 1 lines to /tmpfs/.cpan-build-cpansand/2016052309/Provision-Unix-1.08-5BgKOJ/t/trash/rw-test1463998728.md5
/tmpfs/.cpan-build-cpansand/2016052309/Provision-Unix-1.08-5BgKOJ/t/trash/rw-test is writable
file_write: appended 1 lines to /tmpfs/.cpan-build-cpansand/2016052309/Provision-Unix-1.08-5BgKOJ/t/trash/rw-test
comparing /tmpfs/.cpan-build-cpansand/2016052309/Provision-Unix-1.08-5BgKOJ/t/trash/rw-test and /tmpfs/.cpan-build-cpansand/2016052309/Provision-Unix-1.08-5BgKOJ/t/trash/rw-test1463998728 using md5
Digest::MD5 loaded
md5 file for /tmpfs/.cpan-build-cpansand/2016052309/Provision-Unix-1.08-5BgKOJ/t/trash/rw-test exists
checking age of /tmpfs/.cpan-build-cpansand/2016052309/Provision-Unix-1.08-5BgKOJ/t/trash/rw-test.md5 and /tmpfs/.cpan-build-cpansand/2016052309/Provision-Unix-1.08-5BgKOJ/t/trash/rw-test
timestamps are 1463998728 and 1463998729
calculated md5: 8a521168b4c45822335b132654c0c678
/tmpfs/.cpan-build-cpansand/2016052309/Provision-Unix-1.08-5BgKOJ/t/trash/rw-test.md5 is writable
file_write: wrote 1 lines to /tmpfs/.cpan-build-cpansand/2016052309/Provision-Unix-1.08-5BgKOJ/t/trash/rw-test.md5
md5 file for /tmpfs/.cpan-build-cpansand/2016052309/Provision-Unix-1.08-5BgKOJ/t/trash/rw-test1463998728 exists
checking age of /tmpfs/.cpan-build-cpansand/2016052309/Provision-Unix-1.08-5BgKOJ/t/trash/rw-test1463998728.md5 and /tmpfs/.cpan-build-cpansand/2016052309/Provision-Unix-1.08-5BgKOJ/t/trash/rw-test1463998728
timestamps are 1463998728 and 1463998728
find_bin: found /bin/rm
find_bin: could not find globRe
Error History Report
ERROR: 'couldn't chown /tmpfs/.cpan-build-cpansand/2016052309/Provision-Unix-1.08-5BgKOJ/t/trash/rw-test: Operation not permitted' at Provision::Unix::Utility, 275
ERROR: 'find_bin: could not find globRe' at Provision::Unix::Utility, 770
Audit History Report
find_bin: could not find globRe
find_bin: found /bin/rm
find_bin: found /bin/grep
get_the_date time: 1463998729, 2016/05/23 10:18
find_bin: found /bin/date
get_the_date time: 1463998729, (selected 1463912329), 2016/05/22 10:18
/tmpfs/.cpan-build-cpansand/2016052309/Provision-Unix-1.08-5BgKOJ/t/trash/rw-test is writable
archive_file: /tmpfs/.cpan-build-cpansand/2016052309/Provision-Unix-1.08-5BgKOJ/t/trash/rw-test backed up to /tmpfs/.cpan-build-cpansand/2016052309/Provision-Unix-1.08-5BgKOJ/t/trash/rw-test1463998729
/tmpfs/.cpan-build-cpansand/2016052309/Provision-Unix-1.08-5BgKOJ/t/trash/rw-test is writable
/tmpfs/.cpan-build-cpansand/2016052309/Provision-Unix-1.08-5BgKOJ/t/trash/rw-test1463998729 is writable
comparing ascii files /tmpfs/.cpan-build-cpansand/2016052309/Provision-Unix-1.08-5BgKOJ/t/trash/rw-test1463998729 and /tmpfs/.cpan-build-cpansand/2016052309/Provision-Unix-1.08-5BgKOJ/t/trash/rw-test using diff
find_bin: found /usr/bin/diff
/tmpfs/.cpan-build-cpansand/2016052309/Provision-Unix-1.08-5BgKOJ/t/trash/rw-test is already up-to-date.
get_the_date time: 1463998729, 2016/05/23 10:18
logfile_append wrote 1 lines to /tmpfs/.cpan-build-cpansand/2016052309/Provision-Unix-1.08-5BgKOJ/t/trash/rw-test
get_the_date time: 1463998729, 2016/05/23 10:18
logfile_append wrote 2 lines to /tmpfs/.cpan-build-cpansand/2016052309/Provision-Unix-1.08-5BgKOJ/t/trash/rw-test
get_the_date time: 1463998729, 2016/05/23 10:18
logfile_append wrote 2 lines to /tmpfs/.cpan-build-cpansand/2016052309/Provision-Unix-1.08-5BgKOJ/t/trash/rw-test
find_bin: found /bin/mkdir
trying mkdir -p /tmpfs/.cpan-build-cpansand/2016052309/Provision-Unix-1.08-5BgKOJ/t/trash/bar
syscmd: /bin/mkdir -p /tmpfs/.cpan-build-cpansand/2016052309/Provision-Unix-1.08-5BgKOJ/t/trash/bar
program: /bin/mkdir, args : -p /tmpfs/.cpan-build-cpansand/2016052309/Provision-Unix-1.08-5BgKOJ/t/trash/bar
syscmd: bin is </bin/mkdir> (safe)
r:
mkdir_system created /tmpfs/.cpan-build-cpansand/2016052309/Provision-Unix-1.08-5BgKOJ/t/trash/bar
chmod 0744 /tmpfs/.cpan-build-cpansand/2016052309/Provision-Unix-1.08-5BgKOJ/t/trash/bar
Audit History Report
chmod 0744 /tmpfs/.cpan-build-cpansand/2016052309/Provision-Unix-1.08-5BgKOJ/t/trash/bar
/tmpfs/.cpan-build-cpansand/2016052309/Provision-Unix-1.08-5BgKOJ/t/trash/rw-test is writable
check_pidfile: /tmpfs/.cpan-build-cpansand/2016052309/Provision-Unix-1.08-5BgKOJ/t/trash/rw-test is 0 minutes old and might still be running. If it is not running, please remove the file (rm /tmpfs/.cpan-build-cpansand/2016052309/Provision-Unix-1.08-5BgKOJ/t/trash/rw-test).
/tmpfs/.cpan-build-cpansand/2016052309/Provision-Unix-1.08-5BgKOJ/t/trash is not a regular file
writing process id 27029 to /tmpfs/.cpan-build-cpansand/2016052309/Provision-Unix-1.08-5BgKOJ/t/trash/rw-test.pid...
file_write: wrote 1 lines to /tmpfs/.cpan-build-cpansand/2016052309/Provision-Unix-1.08-5BgKOJ/t/trash/rw-test.pid
foo sources not present.
find_bin: found /usr/bin/sudo
sudo: sudo was found at /usr/bin/sudo.
Audit History Report
sudo: sudo was found at /usr/bin/sudo.
syscmd: touch /tmp/provision-unix-test
program: touch, args : /tmp/provision-unix-test
syscmd: bin is <touch> (safe)
find_bin: found /bin/touch
r:
syscmd: rm /tmp/provision-unix-test.nonexist
program: rm, args : /tmp/provision-unix-test.nonexist
syscmd: bin is <rm> (safe)
find_bin: found /bin/rm
r: rm: Entfernen von â/tmp/provision-unix-test.nonexistâ nicht möglich: Datei oder Verzeichnis nicht gefunden
256: rm: Entfernen von â/tmp/provision-unix-test.nonexistâ nicht möglich: Datei oder Verzeichnis nicht gefunden
Error History Report
ERROR: '/tmpfs/.cpan-build-cpansand/2016052309/Provision-Unix-1.08-5BgKOJ/t/trash is not a regular file' at Provision::Unix::Utility, 1893
ERROR: '256: rm: Entfernen von â/tmp/provision-unix-test.nonexistâ nicht möglich: Datei oder Verzeichnis nicht gefunden
' at Provision::Unix::Utility, 2213
Audit History Report
256: rm: Entfernen von â/tmp/provision-unix-test.nonexistâ nicht möglich: Datei oder Verzeichnis nicht gefunden
256: rm: Entfernen von â/tmp/provision-unix-test.nonexistâ nicht möglich: Datei oder Verzeichnis nicht gefunden
syscmd: rm /tmp/provision-unix-test.nonexist
program: rm, args : /tmp/provision-unix-test.nonexist
syscmd: bin is <rm> (safe)
find_bin: found /bin/rm
r: rm: Entfernen von â/tmp/provision-unix-test.nonexistâ nicht möglich: Datei oder Verzeichnis nicht gefunden
256: rm: Entfernen von â/tmp/provision-unix-test.nonexistâ nicht möglich: Datei oder Verzeichnis nicht gefunden
Error History Report
ERROR: '256: rm: Entfernen von â/tmp/provision-unix-test.nonexistâ nicht möglich: Datei oder Verzeichnis nicht gefunden
' at Provision::Unix::Utility, 2213
ERROR: '256: rm: Entfernen von â/tmp/provision-unix-test.nonexistâ nicht möglich: Datei oder Verzeichnis nicht gefunden
' at main, t/Utility.t, 593
ERROR: '256: rm: Entfernen von â/tmp/provision-unix-test.nonexistâ nicht möglich: Datei oder Verzeichnis nicht gefunden
' at Provision::Unix::Utility, 2213
Audit History Report
256: rm: Entfernen von â/tmp/provision-unix-test.nonexistâ nicht möglich: Datei oder Verzeichnis nicht gefunden
256: rm: Entfernen von â/tmp/provision-unix-test.nonexistâ nicht möglich: Datei oder Verzeichnis nicht gefunden
syscmd: rm /tmp/provision-unix-test
program: rm, args : /tmp/provision-unix-test
syscmd: bin is <rm> (safe)
find_bin: found /bin/rm
r:
write permission to /tmpfs/.cpan-build-cpansand/2016052309/Provision-Unix-1.08-5BgKOJ/t/trash/rw-test1463998729: ok
deleted: /tmpfs/.cpan-build-cpansand/2016052309/Provision-Unix-1.08-5BgKOJ/t/trash/rw-test1463998729
/tmpfs/.cpan-build-cpansand/2016052309/Provision-Unix-1.08-5BgKOJ/t/trash/rw-test1463998729 does not exist
Error History Report
ERROR: '256: rm: Entfernen von â/tmp/provision-unix-test.nonexistâ nicht möglich: Datei oder Verzeichnis nicht gefunden
' at Provision::Unix::Utility, 2213
ERROR: '256: rm: Entfernen von â/tmp/provision-unix-test.nonexistâ nicht möglich: Datei oder Verzeichnis nicht gefunden
' at main, t/Utility.t, 594
ERROR: '/tmpfs/.cpan-build-cpansand/2016052309/Provision-Unix-1.08-5BgKOJ/t/trash/rw-test1463998729 does not exist' at Provision::Unix::Utility, 466
t/Utility.t ................. ok
t/VirtualOS.t ............... skipped: Unable to determine your virtualization method. You need one supported hypervisor (xen, openvz) installed. at lib/Provision/Unix/VirtualOS.pm line 59.
t/virtualos_config.t ........ skipped: Unable to determine your virtualization method. You need one supported hypervisor (xen, openvz) installed. at lib/Provision/Unix/VirtualOS.pm line 59. on linux
t/virtualos_get_template.t .. skipped: Unable to determine your virtualization method. You need one supported hypervisor (xen, openvz) installed. at lib/Provision/Unix/VirtualOS.pm line 59. on linux
t/vps_password.t ............ skipped: Unable to determine your virtualization method. You need one supported hypervisor (xen, openvz) installed. at lib/Provision/Unix/VirtualOS.pm line 59. on linux
t/Web.t ..................... ok
t/xen_create_snapshot.t ..... skipped: Unable to determine your virtualization method. You need one supported hypervisor (xen, openvz) installed. at lib/Provision/Unix/VirtualOS.pm line 59.
t/xen_resize_lvm.t .......... skipped: Unable to determine your virtualization method. You need one supported hypervisor (xen, openvz) installed. at lib/Provision/Unix/VirtualOS.pm line 59.
All tests successful.
Files=19, Tests=206, 6 wallclock secs ( 0.09 usr 0.06 sys + 2.96 cusr 1.23 csys = 4.34 CPU)
Result: PASS
------------------------------
PREREQUISITES
------------------------------
Prerequisite modules loaded:
requires:
Module Need Have
-------------------------------- -------- --------
Apache::Admin::Config 0.95 0.95
! Apache::ConfigFile 1 n/a
base 0 2.23
Config::Tiny 2 2.23
CPAN 0 2.10
Cwd 0 3.62
Data::Dumper 0 2.160
Date::Format 0 2.24
Digest::MD5 1 2.55
English 0 1.10
File::Basename 0 2.85
File::Copy 0 2.31
File::Path 2.08 2.12
File::Spec 0 3.62
File::stat 0 1.07
Getopt::Long 2.37 2.48
lib 0 0.63
LWP::Simple 0 6.15
LWP::UserAgent 0 6.15
Mail::Send 1 2.18
Params::Validate 0.8 1.24
perl 5.006001 5.024000
Scalar::Util 0 1.45
strict 0 1.11
Time::Local 0 1.2300
URI 1 1.71
utf8 1 1.19
vars 0 1.03
warnings 0 1.36
build_requires:
Module Need Have
-------------------------------- -------- --------
Dist::Zilla 1 5.047
Dist::Zilla::Plugin::MinimumPerl 0.1 1.006
Test::More 0.1 1.302019
Test::Pod 0.1 1.51
configure_requires:
Module Need Have
-------------------------------- -------- --------
ExtUtils::MakeMaker 0 7.16
perl 5.006001 5.024000
------------------------------
ENVIRONMENT AND OTHER CONTEXT
------------------------------
Environment variables:
LANG = C
LC_ALL = de_DE.UTF-8
PATH = /usr/local/bin:/usr/bin:/bin:/usr/local/sbin:/usr/sbin:/sbin:/home/cpansand/bin/linux-gnu:/home/cpansand/bin/sh:/home/cpansand/bin:/usr/games:/home/cpansand/devel:/home/eserte/src/srezic-misc/scripts
PERL5LIB =
PERL5OPT =
PERL5_CPANPLUS_IS_RUNNING = 31174
PERL5_CPAN_IS_RUNNING = 31174
PERL5_CPAN_IS_RUNNING_IN_RECURSION = 7512,31174
PERLDOC = -MPod::Perldoc::ToTextOverstrike
PERL_BATCH = yes
PERL_CANARY_STABILITY_NOPROMPT = 1
PERL_CPAN_REPORTER_CONFIG = /var/tmp/cpansmoker-1023/2016052303/cpanreporter_002_config.ini
PERL_EXTUTILS_AUTOINSTALL = --defaultdeps
PERL_PARALLEL_SMOKER = yes
SHELL = /bin/zsh
TERM = screen
TMPDIR = /var/tmp/cpansmoker-1023/2016052303
Perl special variables (and OS-specific diagnostics, for MSWin32):
$^X = /opt/perl-5.24.0t/bin/perl
$UID/$EUID = 1023 / 1023
$GID = 1023 1023
$EGID = 1023 1023
Perl module toolchain versions installed:
Module Have
------------------- --------
CPAN 2.10
CPAN::Meta 2.150005
Cwd 3.62
ExtUtils::CBuilder 0.280224
ExtUtils::Command 7.16
ExtUtils::Install 2.04
ExtUtils::MakeMaker 7.16
ExtUtils::Manifest 1.70
ExtUtils::ParseXS 3.30
File::Spec 3.62
JSON 2.90
JSON::PP 2.27400
Module::Build 0.4218
Module::Signature 0.79
Parse::CPAN::Meta 1.4417
Test::Harness 3.36
Test::More 1.302019
YAML 1.15
YAML::Syck 1.29
version 0.9916
--
Summary of my perl5 (revision 5 version 24 subversion 0) configuration:
Platform:
osname=linux, osvers=3.2.0-4-amd64, archname=x86_64-linux-thread-multi
uname='linux eserte 3.2.0-4-amd64 #1 smp debian 3.2.78-1 x86_64 gnulinux '
config_args='-ds -e -Dprefix=/opt/perl-5.24.0t -Dusethreads -Dcf_email=srezic@cpan.org'
hint=recommended, useposix=true, d_sigaction=define
useithreads=define, usemultiplicity=define
use64bitint=define, use64bitall=define, uselongdouble=undef
usemymalloc=n, bincompat5005=undef
Compiler:
cc='cc', ccflags ='-D_REENTRANT -D_GNU_SOURCE -fwrapv -fno-strict-aliasing -pipe -fstack-protector -I/usr/local/include -D_LARGEFILE_SOURCE -D_FILE_OFFSET_BITS=64 -D_FORTIFY_SOURCE=2',
optimize='-O2',
cppflags='-D_REENTRANT -D_GNU_SOURCE -fwrapv -fno-strict-aliasing -pipe -fstack-protector -I/usr/local/include'
ccversion='', gccversion='4.7.2', gccosandvers=''
intsize=4, longsize=8, ptrsize=8, doublesize=8, byteorder=12345678, doublekind=3
d_longlong=define, longlongsize=8, d_longdbl=define, longdblsize=16, longdblkind=3
ivtype='long', ivsize=8, nvtype='double', nvsize=8, Off_t='off_t', lseeksize=8
alignbytes=8, prototype=define
Linker and Libraries:
ld='cc', ldflags =' -fstack-protector -L/usr/local/lib'
libpth=/usr/local/lib /usr/lib/gcc/x86_64-linux-gnu/4.7/include-fixed /usr/include/x86_64-linux-gnu /usr/lib /lib/x86_64-linux-gnu /lib/../lib /usr/lib/x86_64-linux-gnu /usr/lib/../lib /lib
libs=-lpthread -lnsl -ldb -ldl -lm -lcrypt -lutil -lc
perllibs=-lpthread -lnsl -ldl -lm -lcrypt -lutil -lc
libc=libc-2.13.so, so=so, useshrplib=false, libperl=libperl.a
gnulibc_version='2.13'
Dynamic Linking:
dlsrc=dl_dlopen.xs, dlext=so, d_dlsymun=undef, ccdlflags='-Wl,-E'
cccdlflags='-fPIC', lddlflags='-shared -O2 -L/usr/local/lib -fstack-protector'
Characteristics of this binary (from libperl):
Compile-time options: HAS_TIMES MULTIPLICITY PERLIO_LAYERS
PERL_COPY_ON_WRITE PERL_DONT_CREATE_GVSV
PERL_HASH_FUNC_ONE_AT_A_TIME_HARD
PERL_IMPLICIT_CONTEXT PERL_MALLOC_WRAP
PERL_PRESERVE_IVUV USE_64_BIT_ALL USE_64_BIT_INT
USE_ITHREADS USE_LARGE_FILES USE_LOCALE
USE_LOCALE_COLLATE USE_LOCALE_CTYPE
USE_LOCALE_NUMERIC USE_LOCALE_TIME USE_PERLIO
USE_PERL_ATOF USE_REENTRANT_API
Built under linux
Compiled at May 20 2016 19:26:55
%ENV:
PERL5LIB=""
PERL5OPT=""
PERL5_CPANPLUS_IS_RUNNING="31174"
PERL5_CPAN_IS_RUNNING="31174"
PERL5_CPAN_IS_RUNNING_IN_RECURSION="7512,31174"
PERLDOC="-MPod::Perldoc::ToTextOverstrike"
PERL_BATCH="yes"
PERL_CANARY_STABILITY_NOPROMPT="1"
PERL_CPAN_REPORTER_CONFIG="/var/tmp/cpansmoker-1023/2016052303/cpanreporter_002_config.ini"
PERL_EXTUTILS_AUTOINSTALL="--defaultdeps"
PERL_PARALLEL_SMOKER="yes"
@INC:
/opt/perl-5.24.0t/lib/site_perl/5.24.0/x86_64-linux-thread-multi
/opt/perl-5.24.0t/lib/site_perl/5.24.0
/opt/perl-5.24.0t/lib/5.24.0/x86_64-linux-thread-multi
/opt/perl-5.24.0t/lib/5.24.0
.