Webservice-Shipment v0.06 Perl 5 v5.30.2 x86_64-linux-ld
- Status
- Pass
- From
- David Cantrell (DCANTRELL)
- Dist
-
Webservice-Shipment v0.06
- Platform
- Perl 5 v5.30.2 x86_64-linux-ld
- Date
- 2021-03-12T10:59:03
- ID
- f4fd5698-8321-11eb-9057-0ce3fe0a6a16
This distribution has been tested as part of the CPAN Testers
project, supporting the Perl programming language. See
http://wiki.cpantesters.org/ for more information or email
questions to cpan-testers-discuss@perl.org
--
Dear Joel Berger,
This is a computer-generated report for Webservice-Shipment-0.06
on perl 5.30.2, created by CPAN-Reporter-1.2018.
Thank you for uploading your work to CPAN. Congratulations!
All tests were successful.
Sections of this report:
* Tester comments
* Program output
* Prerequisites
* Environment and other context
------------------------------
TESTER COMMENTS
------------------------------
Additional comments from tester:
this report is from an automated smoke testing program
and was not reviewed by a human for accuracy
------------------------------
PROGRAM OUTPUT
------------------------------
Output from './Build test':
[2021-03-12 10:58:25.32179] [8317] [debug] [sEittTHH] POST "/trackingCal/trackHASH(0x562c31f17078)"
[2021-03-12 10:58:25.33284] [8317] [debug] [sEittTHH] Routing to a callback
[2021-03-12 10:58:25.34444] [8317] [debug] [sEittTHH] 200 OK (0.022482s, 44.480/s)
t/FexEx.t ..... ok
t/shipment.t .. ok
[2021-03-12 10:58:36.81790] [8466] [debug] [2_QFsooF] POST "/ups.app/xml/Track"
[2021-03-12 10:58:36.82175] [8466] [debug] [2_QFsooF] Routing to a callback
[2021-03-12 10:58:36.82279] [8466] [debug] [2_QFsooF] 200 OK (0.00493s, 202.840/s)
[2021-03-12 10:58:36.93810] [8466] [debug] [-gBbIbgO] POST "/ups.app/xml/Track"
[2021-03-12 10:58:36.93917] [8466] [debug] [-gBbIbgO] Routing to a callback
[2021-03-12 10:58:36.94076] [8466] [debug] [-gBbIbgO] 200 OK (0.002527s, 395.726/s)
[2021-03-12 10:58:37.08500] [8466] [debug] [ReIfRPf0] POST "/ups.app/xml/Track"
[2021-03-12 10:58:37.08573] [8466] [debug] [ReIfRPf0] Routing to a callback
[2021-03-12 10:58:37.08648] [8466] [debug] [ReIfRPf0] 200 OK (0.00146s, 684.932/s)
[2021-03-12 10:58:37.28847] [8466] [debug] [m6eU9tOD] POST "/ups.app/xml/Track"
[2021-03-12 10:58:37.28908] [8466] [debug] [m6eU9tOD] Routing to a callback
[2021-03-12 10:58:37.28979] [8466] [debug] [m6eU9tOD] 200 OK (0.001279s, 781.861/s)
t/ups.t ....... ok
[2021-03-12 10:58:43.93440] [8573] [debug] [cMt7HbPi] GET "/ShippingAPI.dll"
[2021-03-12 10:58:43.93842] [8573] [debug] [cMt7HbPi] Routing to a callback
[2021-03-12 10:58:43.96851] [8573] [debug] [cMt7HbPi] 200 OK (0.034073s, 29.349/s)
[2021-03-12 10:58:44.09781] [8573] [debug] [7Y7EpxIb] GET "/ShippingAPI.dll"
[2021-03-12 10:58:44.09868] [8573] [debug] [7Y7EpxIb] Routing to a callback
[2021-03-12 10:58:44.12027] [8573] [debug] [7Y7EpxIb] 200 OK (0.022445s, 44.553/s)
[2021-03-12 10:58:44.28950] [8573] [debug] [bpjehThJ] GET "/ShippingAPI.dll"
[2021-03-12 10:58:44.28994] [8573] [debug] [bpjehThJ] Routing to a callback
[2021-03-12 10:58:44.29062] [8573] [debug] [bpjehThJ] 200 OK (0.001024s, 976.562/s)
t/usps.t ...... ok
All tests successful.
Files=4, Tests=16, 27 wallclock secs ( 0.11 usr 0.02 sys + 6.19 cusr 0.58 csys = 6.90 CPU)
Result: PASS
------------------------------
PREREQUISITES
------------------------------
Prerequisite modules loaded:
requires:
Module Need Have
------------------- ---- ------
Mojo::IOLoop::Delay 0 8.76
Mojolicious 5.0 9.03
Time::Piece 0 1.33
configure_requires:
Module Need Have
------------------- ---- ------
Module::Build 0.38 0.4231
------------------------------
ENVIRONMENT AND OTHER CONTEXT
------------------------------
Environment variables:
AUTOMATED_TESTING = 1
LANG = en_GB.UTF-8
LANGUAGE = en_GB:en
LC_TERMINAL = iTerm2
LC_TERMINAL_VERSION = 3.4.4
NONINTERACTIVE_TESTING = 1
PATH = /home/david/perl5/perlbrew/bin:/home/david/perl5/perlbrew/perls/perl-5.30.2/bin:/usr/local/bin:/usr/bin:/bin:/usr/local/games:/usr/games
PERL = 5.30.2-longdouble
PERL5LIB =
PERL5OPT =
PERL5_CPANPLUS_IS_RUNNING = 7473
PERL5_CPAN_IS_RUNNING = 7473
PERLBREW_HOME = /home/david/.perlbrew
PERLBREW_MANPATH = /home/david/perl5/perlbrew/perls/perl-5.30.2/man
PERLBREW_PATH = /home/david/perl5/perlbrew/bin:/home/david/perl5/perlbrew/perls/perl-5.30.2/bin
PERLBREW_PERL = perl-5.30.2
PERLBREW_ROOT = /home/david/perl5/perlbrew
PERLBREW_SHELLRC_VERSION = 0.89
PERLBREW_VERSION = 0.89
PERLVER = 5.30.2-longdouble
PERL_INLINE_DIRECTORY = /home/david/.Inline-5.30.2-longdouble
PERL_MM_USE_DEFAULT = 1
PERL_USE_UNSAFE_INC = 0
SHELL = /bin/bash
TERM = screen
Perl special variables (and OS-specific diagnostics, for MSWin32):
$^X = /home/david/cpantesting/perl-5.30.2-longdouble/bin/perl
$UID/$EUID = 1000 / 1000
$GID = 1000 24 25 27 29 30 44 46 109 1000
$EGID = 1000 24 25 27 29 30 44 46 109 1000
Perl module toolchain versions installed:
Module Have
------------------- --------
CPAN 2.22
CPAN::Meta 2.150010
Cwd 3.78
ExtUtils::CBuilder 0.280231
ExtUtils::Command 7.34
ExtUtils::Install 2.14
ExtUtils::MakeMaker 7.34
ExtUtils::Manifest 1.72
ExtUtils::ParseXS 3.40
File::Spec 3.78
JSON 4.03
JSON::PP 4.02
Module::Build 0.4231
Module::Signature n/a
Parse::CPAN::Meta 2.150010
Test::Harness 3.42
Test::More 1.302183
YAML 1.30
YAML::Syck n/a
version 0.9924
--
Summary of my perl5 (revision 5 version 30 subversion 2) configuration:
Platform:
osname=linux
osvers=4.19.0-12-amd64
archname=x86_64-linux-ld
uname='linux cpantesting-linux 4.19.0-12-amd64 #1 smp debian 4.19.152-1 (2020-10-18) x86_64 gnulinux '
config_args='-de -Duselongdouble -Dprefix=/home/david/cpantesting/perl-5.30.2-longdouble'
hint=recommended
useposix=true
d_sigaction=define
useithreads=undef
usemultiplicity=undef
use64bitint=define
use64bitall=define
uselongdouble=define
usemymalloc=n
default_inc_excludes_dot=define
bincompat5005=undef
Compiler:
cc='cc'
ccflags ='-fwrapv -fno-strict-aliasing -pipe -fstack-protector-strong -I/usr/local/include -D_LARGEFILE_SOURCE -D_FILE_OFFSET_BITS=64 -D_FORTIFY_SOURCE=2'
optimize='-O2'
cppflags='-fwrapv -fno-strict-aliasing -pipe -fstack-protector-strong -I/usr/local/include'
ccversion=''
gccversion='8.3.0'
gccosandvers=''
intsize=4
longsize=8
ptrsize=8
doublesize=8
byteorder=12345678
doublekind=3
d_longlong=define
longlongsize=8
d_longdbl=define
longdblsize=16
longdblkind=3
ivtype='long'
ivsize=8
nvtype='long double'
nvsize=16
Off_t='off_t'
lseeksize=8
alignbytes=16
prototype=define
Linker and Libraries:
ld='cc'
ldflags =' -fstack-protector-strong -L/usr/local/lib'
libpth=/usr/local/lib /usr/lib/gcc/x86_64-linux-gnu/8/include-fixed /usr/include/x86_64-linux-gnu /usr/lib /lib/x86_64-linux-gnu /lib/../lib /usr/lib/x86_64-linux-gnu /usr/lib/../lib /lib /lib64 /usr/lib64
libs=-lpthread -lnsl -ldl -lm -lcrypt -lutil -lc
perllibs=-lpthread -lnsl -ldl -lm -lcrypt -lutil -lc
libc=libc-2.28.so
so=so
useshrplib=false
libperl=libperl.a
gnulibc_version='2.28'
Dynamic Linking:
dlsrc=dl_dlopen.xs
dlext=so
d_dlsymun=undef
ccdlflags='-Wl,-E'
cccdlflags='-fPIC'
lddlflags='-shared -O2 -L/usr/local/lib -fstack-protector-strong'
Characteristics of this binary (from libperl):
Compile-time options:
HAS_TIMES
PERLIO_LAYERS
PERL_COPY_ON_WRITE
PERL_DONT_CREATE_GVSV
PERL_MALLOC_WRAP
PERL_OP_PARENT
PERL_PRESERVE_IVUV
USE_64_BIT_ALL
USE_64_BIT_INT
USE_LARGE_FILES
USE_LOCALE
USE_LOCALE_COLLATE
USE_LOCALE_CTYPE
USE_LOCALE_NUMERIC
USE_LOCALE_TIME
USE_LONG_DOUBLE
USE_PERLIO
USE_PERL_ATOF
Built under linux
Compiled at Dec 5 2020 20:08:07
%ENV:
PERL="5.30.2-longdouble"
PERL5LIB=""
PERL5OPT=""
PERL5_CPANPLUS_IS_RUNNING="7473"
PERL5_CPAN_IS_RUNNING="7473"
PERLBREW_HOME="/home/david/.perlbrew"
PERLBREW_MANPATH="/home/david/perl5/perlbrew/perls/perl-5.30.2/man"
PERLBREW_PATH="/home/david/perl5/perlbrew/bin:/home/david/perl5/perlbrew/perls/perl-5.30.2/bin"
PERLBREW_PERL="perl-5.30.2"
PERLBREW_ROOT="/home/david/perl5/perlbrew"
PERLBREW_SHELLRC_VERSION="0.89"
PERLBREW_VERSION="0.89"
PERLVER="5.30.2-longdouble"
PERL_INLINE_DIRECTORY="/home/david/.Inline-5.30.2-longdouble"
PERL_MM_USE_DEFAULT="1"
PERL_USE_UNSAFE_INC="0"
@INC:
/home/david/cpantesting/perl-5.30.2-longdouble/lib/site_perl/5.30.2/x86_64-linux-ld
/home/david/cpantesting/perl-5.30.2-longdouble/lib/site_perl/5.30.2
/home/david/cpantesting/perl-5.30.2-longdouble/lib/5.30.2/x86_64-linux-ld
/home/david/cpantesting/perl-5.30.2-longdouble/lib/5.30.2